BEGIN:VCALENDAR
VERSION:2.0
PRODID:-//RKK Therwil//NONSGML kigkonsult.se iCalcreator 2.41.92//
CALSCALE:GREGORIAN
METHOD:PUBLISH
UID:61383333-3562-4434-b737-643763653335
X-WR-CALNAME:iCagenda
X-WR-CALDESC:Event Management Extension for Joomla!
X-WR-RELCALID:3E26604A-50F4-4449-8B3E-E4F4932D05B5
X-WR-TIMEZONE:Europe/Zurich
BEGIN:VTIMEZONE
TZID:Europe/Zurich
TZUNTIL:20250330T010000Z
BEGIN:STANDARD
TZNAME:CET
DTSTART:20221030T030000
TZOFFSETFROM:+0200
TZOFFSETTO:+0100
RDATE:20231029T030000
RDATE:20241027T030000
END:STANDARD
BEGIN:DAYLIGHT
TZNAME:CEST
DTSTART:20230326T020000
TZOFFSETFROM:+0100
TZOFFSETTO:+0200
RDATE:20240331T020000
END:DAYLIGHT
END:VTIMEZONE
BEGIN:VEVENT
UID:30373661-6436-4665-b363-613431636361
DTSTAMP:20260421T221626Z
CATEGORIES:RKK Therwil
CLASS:PUBLIC
DESCRIPTION;ALTREP="CID:<FFFF__=0ABBE548DFE235B58f9e8a93d@coffeebean.com>":
 Sommerpause in Biel-Benken \nAb Samstag\, den 1. Juli pausieren wir mit de
 n Vorabendgottesdiensten um 17 Uhr und beginnen wieder am Samstag\, den 19
 . August – je nach Wetter vor dem oder im Schlössli Biel-Benken.
DTSTART:20230805T150000Z
DTEND:20230805T150000Z
GEO:00;0
LOCATION:
ORGANIZER:
SEQUENCE:1
SUMMARY:Vorabengottesdienste - Sommerpause in Biel-Benken
TRANSP:OPAQUE
URL:https://rkk-therwil.ch/aktuelles/archiv/9-vorabengottesdienste-sommerpa
 use-in-biel-benken/2023-08-05-17-00?layout=vcal
END:VEVENT
END:VCALENDAR
