BEGIN:VCALENDAR
VERSION:2.0
PRODID:-//RKK Therwil//NONSGML kigkonsult.se iCalcreator 2.41.92//
CALSCALE:GREGORIAN
METHOD:PUBLISH
UID:63396434-3038-4162-a639-393435613662
X-WR-CALNAME:iCagenda
X-WR-CALDESC:Event Management Extension for Joomla!
X-WR-RELCALID:3E26604A-50F4-4449-8B3E-E4F4932D05B5
X-WR-TIMEZONE:Europe/Zurich
BEGIN:VTIMEZONE
TZID:Europe/Zurich
TZUNTIL:20271031T010000Z
BEGIN:STANDARD
TZNAME:CET
DTSTART:20251026T030000
TZOFFSETFROM:+0200
TZOFFSETTO:+0100
RDATE:20261025T030000
END:STANDARD
BEGIN:DAYLIGHT
TZNAME:CEST
DTSTART:20260329T020000
TZOFFSETFROM:+0100
TZOFFSETTO:+0200
RDATE:20270328T020000
END:DAYLIGHT
END:VTIMEZONE
BEGIN:VEVENT
UID:30356237-3838-4262-a533-353632383434
DTSTAMP:20260420T023058Z
CATEGORIES:RKK Therwil
CLASS:PUBLIC
DESCRIPTION;ALTREP="CID:<FFFF__=0ABBE548DFE235B58f9e8a93d@coffeebean.com>":
 Sarah Brunner\, Orgel\, Franziska Heinzen\, Gesang\, &nbsp\;Manuela Lehner
 -Mutter\, Jodelgesang\nSonntag\, 19. April um 19 Uhr\, Türöffnung 18.30 Uh
 r\, Kath. Kirche St. Stephan Therwil\nDank Projektion auf eine Grossleinwa
 nd können Sie das Spiel des Ensembles im Kirchenraum mitverfolgen. Das Obe
 rwalliser Ensemble VOLKS/LIED/KUNST vereint Volks- und Kunstlieder in eine
 m abwechslungsreichen Konzertprogramm\, das von Walliser Volksliedern über
  Eigenkompositionen bis hin zu Werken von Robert Schumann\, Felix Mendelss
 ohn und Eugen Meier reicht. Das Ensemble wurde 2023 gegründet und setzt mi
 t seiner stilübergreifenden Ausrichtung bewusst auf die Verbindung von tra
 ditionellem Liedgut und klassischer Vokalmusik. Ziel ist es\, verschiedene
  Klangwelten einander gegenüberzustellen und in einen neuen Zusammenhang z
 u stellen.\nwww.konzerte-therwil.ch
DTSTART:20260419T170000Z
DTEND:20260419T193000Z
GEO:00;0
LOCATION:
ORGANIZER:
SEQUENCE:1
SUMMARY:Ensemble VOLKS/LIED/KUNST -Ein musikalischer Alpabzug zwischen Volk
 s- und Kunstlied in Therwil
TRANSP:OPAQUE
URL:https://rkk-therwil.ch/aktuelles/archiv/462-ensemble-volks-lied-kunst-e
 in-musikalischer-alpabzug-zwischen-volks-und-kunstlied-in-therwil
END:VEVENT
END:VCALENDAR
