BEGIN:VCALENDAR
VERSION:2.0
PRODID:-//RKK Therwil//NONSGML kigkonsult.se iCalcreator 2.41.92//
CALSCALE:GREGORIAN
METHOD:PUBLISH
UID:35363162-6533-4734-a135-633662346464
X-WR-CALNAME:iCagenda
X-WR-CALDESC:Event Management Extension for Joomla!
X-WR-RELCALID:3E26604A-50F4-4449-8B3E-E4F4932D05B5
X-WR-TIMEZONE:Europe/Zurich
BEGIN:VTIMEZONE
TZID:Europe/Zurich
TZUNTIL:20271031T010000Z
BEGIN:STANDARD
TZNAME:CET
DTSTART:20251026T030000
TZOFFSETFROM:+0200
TZOFFSETTO:+0100
RDATE:20261025T030000
END:STANDARD
BEGIN:DAYLIGHT
TZNAME:CEST
DTSTART:20260329T020000
TZOFFSETFROM:+0100
TZOFFSETTO:+0200
RDATE:20270328T020000
END:DAYLIGHT
END:VTIMEZONE
BEGIN:VEVENT
UID:38393961-3735-4061-b964-316630643738
DTSTAMP:20260421T133426Z
CATEGORIES:RKK Therwil
CLASS:PUBLIC
DESCRIPTION;ALTREP="CID:<FFFF__=0ABBE548DFE235B58f9e8a93d@coffeebean.com>":
 Wanderung vom Mittwoch\, den 8. April. Wir nehmen das Tram 10 ab Therwil Z
 entrum um 8.27 Uhr Richtung Bahnhof SBB. Mit der S6 geht es weiter nach Lö
 rrach Hauptbahnhof. Der Bus Nr. 8 führt uns nach Lörrach Obertüllingen/Par
 kplatz\, wo wir unsere leichte Wanderung starten. Wir wandern dem Wildtulp
 enweg entlang via Ötlingen nach Weil am Rhein zum Vitra Museum. Wanderzeit
  circa 2\,5 Stunden. Im VitraHaus Café werden wir zum Mittagessen erwartet
 . Rückfahrt individuell mit Bus 55 ab Vitra oder ab Weil Bahnhof Tram 8 (1
 5 Min. zu Fuss) nach Basel/Therwil. U-Abo für ganze Fahrt gültig. Einzel-B
 illett über App oder Billett-Automat nach Lörrach-Obertüllingen (Triregio-
 Ticket) lösen. Wanderstöcke empfohlen. Euro mitnehmen\, Versicherung ist S
 ache der Teilnehmenden.\nWanderleitung Jacqueline Rohrer und Ines Markovsk
 y\, 079 649 30 85
DTSTART:20260408T062700Z
DTEND:20260408T150000Z
GEO:00;0
LOCATION:
ORGANIZER:
SEQUENCE:1
SUMMARY:Wandergruppe «fit und zwäg»
TRANSP:OPAQUE
URL:https://rkk-therwil.ch/aktuelles/archiv/461-wandergruppe-fit-und-zwaeg-
 21?layout=vcal
END:VEVENT
END:VCALENDAR
