BEGIN:VCALENDAR
VERSION:2.0
PRODID:-//RKK Therwil//NONSGML kigkonsult.se iCalcreator 2.41.92//
CALSCALE:GREGORIAN
METHOD:PUBLISH
UID:34356264-3565-4839-b739-663537613764
X-WR-CALNAME:iCagenda
X-WR-CALDESC:Event Management Extension for Joomla!
X-WR-RELCALID:3E26604A-50F4-4449-8B3E-E4F4932D05B5
X-WR-TIMEZONE:Europe/Zurich
BEGIN:VTIMEZONE
TZID:Europe/Zurich
TZUNTIL:20271031T010000Z
BEGIN:STANDARD
TZNAME:CET
DTSTART:20251026T030000
TZOFFSETFROM:+0200
TZOFFSETTO:+0100
RDATE:20261025T030000
END:STANDARD
BEGIN:DAYLIGHT
TZNAME:CEST
DTSTART:20260329T020000
TZOFFSETFROM:+0100
TZOFFSETTO:+0200
RDATE:20270328T020000
END:DAYLIGHT
END:VTIMEZONE
BEGIN:VEVENT
UID:64663131-3763-4138-b632-343063313731
DTSTAMP:20260421T133719Z
CATEGORIES:RKK Therwil
CLASS:PUBLIC
DESCRIPTION;ALTREP="CID:<FFFF__=0ABBE548DFE235B58f9e8a93d@coffeebean.com>":
 In den Osterferien haben unsere Kommunionkinder sich intensiv auf ihren gr
 ossen Tag vorbereitet. An drei Nachmittagen lernten sie den Ablauf des Got
 tesdienstes kennen\, tauchten in eine biblische Geschichte mit einem Figur
 entheater ein\, machten eine Schatzsuche in der Stephanskirche\, entdeckte
 n ihre Namen im Taufbuch der Pfarrei\, übten die Lieder für den Festgottes
 dienst und lernten alles über die Aufgabe der Ministrantinnen und Ministra
 nten. Am Weissen Sonntag\, den 12. April feiern um 9.30 Uhr ihre Erstkommu
 nion: Robin Aebischer\, Elias Alter\, Thiago Arias\, Livia Andrighetto\, L
 ouis Boog\, Mathis Boog\, Noel Boog\, Sara Castiglione\, Tristan Giangreco
 \, Leonie Gschwind\, Sebastian Hänggi\, Marit Anneli Hautzinger\, Thiago H
 omberger\, Lara Imbrogiano\, Loris Oliveri\, Leonardo Pellitteri\, Jana Pr
 étôt\, Delia Russo\, Samanta Zehnder\, Mia Ziegler\nCorinne André und Elke
  Kreiselmeyer
DTSTART:20260412T073000Z
DTEND:20260412T090000Z
GEO:00;0
LOCATION:
ORGANIZER:
SEQUENCE:1
SUMMARY:«Komm\, erzähl mir was!» - Feierliche Erstkommunion 2026
TRANSP:OPAQUE
URL:https://rkk-therwil.ch/aktuelles/archiv/460-komm-erzaehl-mir-was-feierl
 iche-erstkommunion-2026?layout=vcal
END:VEVENT
END:VCALENDAR
