BEGIN:VCALENDAR
VERSION:2.0
PRODID:-//RKK Therwil//NONSGML kigkonsult.se iCalcreator 2.41.92//
CALSCALE:GREGORIAN
METHOD:PUBLISH
UID:39343938-6563-4166-a538-306438366637
X-WR-CALNAME:iCagenda
X-WR-CALDESC:Event Management Extension for Joomla!
X-WR-RELCALID:3E26604A-50F4-4449-8B3E-E4F4932D05B5
X-WR-TIMEZONE:Europe/Zurich
BEGIN:VTIMEZONE
TZID:Europe/Zurich
TZUNTIL:20271031T010000Z
BEGIN:STANDARD
TZNAME:CET
DTSTART:20251026T030000
TZOFFSETFROM:+0200
TZOFFSETTO:+0100
RDATE:20261025T030000
END:STANDARD
BEGIN:DAYLIGHT
TZNAME:CEST
DTSTART:20260329T020000
TZOFFSETFROM:+0100
TZOFFSETTO:+0200
RDATE:20270328T020000
END:DAYLIGHT
END:VTIMEZONE
BEGIN:VEVENT
UID:36333361-3339-4761-b336-363031663533
DTSTAMP:20260421T133314Z
CATEGORIES:RKK Therwil
CLASS:PUBLIC
DESCRIPTION;ALTREP="CID:<FFFF__=0ABBE548DFE235B58f9e8a93d@coffeebean.com>":
 Am Samstag\, den 11. April wird die Kirche bereits ab 12 Uhr geschlossen s
 ein wegen der Vorbereitungen für die feierliche Erstkommunion am Tag danac
 h. Wir danken für Ihr Verständnis.\nElke Kreiselmeyer
DTSTART:20260411T100000Z
DTEND:20260411T180000Z
GEO:00;0
LOCATION:
ORGANIZER:
SEQUENCE:1
SUMMARY:Kirche früher geschlossen
TRANSP:OPAQUE
URL:https://rkk-therwil.ch/aktuelles/archiv/459-kirche-frueher-geschlossen-
 2?layout=vcal
END:VEVENT
END:VCALENDAR
