BEGIN:VCALENDAR
VERSION:2.0
PRODID:-//RKK Therwil//NONSGML kigkonsult.se iCalcreator 2.41.92//
CALSCALE:GREGORIAN
METHOD:PUBLISH
UID:64353738-3137-4433-b133-616332326133
X-WR-CALNAME:iCagenda
X-WR-CALDESC:Event Management Extension for Joomla!
X-WR-RELCALID:3E26604A-50F4-4449-8B3E-E4F4932D05B5
X-WR-TIMEZONE:Europe/Zurich
BEGIN:VTIMEZONE
TZID:Europe/Zurich
TZUNTIL:20271031T010000Z
BEGIN:STANDARD
TZNAME:CET
DTSTART:20251026T030000
TZOFFSETFROM:+0200
TZOFFSETTO:+0100
RDATE:20261025T030000
END:STANDARD
BEGIN:DAYLIGHT
TZNAME:CEST
DTSTART:20260329T020000
TZOFFSETFROM:+0100
TZOFFSETTO:+0200
RDATE:20270328T020000
END:DAYLIGHT
END:VTIMEZONE
BEGIN:VEVENT
UID:66343737-6333-4861-b035-363964306638
DTSTAMP:20260421T133312Z
CATEGORIES:RKK Therwil
CLASS:PUBLIC
DESCRIPTION;ALTREP="CID:<FFFF__=0ABBE548DFE235B58f9e8a93d@coffeebean.com>":
 Am 5. April in der Pfarrei Heilig Kreuz Binningen-Bottmingen um 10.30 Uhr.
  Der Kirchenchor singt die Missa brevis St. Joannis de Deo (Kleine Orgelme
 sse) von J. Haydn\, mit Jehanne Amzal\, Sopran und dem Ensemble Combassal.
DTSTART:20260405T083000Z
DTEND:20260405T093000Z
GEO:00;0
LOCATION:
ORGANIZER:
SEQUENCE:1
SUMMARY:Festgottesdienst am Ostersonntag
TRANSP:OPAQUE
URL:https://rkk-therwil.ch/aktuelles/archiv/457-festgottesdienst-am-osterso
 nntag?layout=vcal
END:VEVENT
END:VCALENDAR
