BEGIN:VCALENDAR
VERSION:2.0
PRODID:-//RKK Therwil//NONSGML kigkonsult.se iCalcreator 2.41.92//
CALSCALE:GREGORIAN
METHOD:PUBLISH
UID:64333834-3365-4637-a464-323130663131
X-WR-CALNAME:iCagenda
X-WR-CALDESC:Event Management Extension for Joomla!
X-WR-RELCALID:3E26604A-50F4-4449-8B3E-E4F4932D05B5
X-WR-TIMEZONE:Europe/Zurich
BEGIN:VTIMEZONE
TZID:Europe/Zurich
TZUNTIL:20271031T010000Z
BEGIN:STANDARD
TZNAME:CET
DTSTART:20251026T030000
TZOFFSETFROM:+0200
TZOFFSETTO:+0100
RDATE:20261025T030000
END:STANDARD
BEGIN:DAYLIGHT
TZNAME:CEST
DTSTART:20260329T020000
TZOFFSETFROM:+0100
TZOFFSETTO:+0200
RDATE:20270328T020000
END:DAYLIGHT
END:VTIMEZONE
BEGIN:VEVENT
UID:64373264-6536-4131-b032-363537383135
DTSTAMP:20260421T083757Z
CATEGORIES:RKK Therwil
CLASS:PUBLIC
DESCRIPTION;ALTREP="CID:<FFFF__=0ABBE548DFE235B58f9e8a93d@coffeebean.com>":
 Der Kirchenchor singt unter der Leitung von Ralph Stelzenmüller Werke von 
 Paul Mealor\, Ralph Vaughan-Williams und Dietrich Buxtehude.\nBei schönem 
 Wetter beginnen wir am Osterfeuer beim Gemeinschaftsgrab auf dem Friedhof\
 , anschliessend Eiertütschen im Pfarreiheim.\n&nbsp\;
DTSTART:20260404T190000Z
DTEND:20260404T210000Z
GEO:00;0
LOCATION:
ORGANIZER:
SEQUENCE:1
SUMMARY:Osternacht mit Eucharistiefeier.
TRANSP:OPAQUE
URL:https://rkk-therwil.ch/aktuelles/archiv/456-osternacht-mit-eucharistief
 eier-2
END:VEVENT
END:VCALENDAR
