BEGIN:VCALENDAR
VERSION:2.0
PRODID:-//RKK Therwil//NONSGML kigkonsult.se iCalcreator 2.41.92//
CALSCALE:GREGORIAN
METHOD:PUBLISH
UID:61313733-3166-4733-b862-666338663264
X-WR-CALNAME:iCagenda
X-WR-CALDESC:Event Management Extension for Joomla!
X-WR-RELCALID:3E26604A-50F4-4449-8B3E-E4F4932D05B5
X-WR-TIMEZONE:Europe/Zurich
BEGIN:VTIMEZONE
TZID:Europe/Zurich
TZUNTIL:20271031T010000Z
BEGIN:STANDARD
TZNAME:CET
DTSTART:20251026T030000
TZOFFSETFROM:+0200
TZOFFSETTO:+0100
RDATE:20261025T030000
END:STANDARD
BEGIN:DAYLIGHT
TZNAME:CEST
DTSTART:20260329T020000
TZOFFSETFROM:+0100
TZOFFSETTO:+0200
RDATE:20270328T020000
END:DAYLIGHT
END:VTIMEZONE
BEGIN:VEVENT
UID:64323866-6532-4462-b361-323332356435
DTSTAMP:20260421T133307Z
CATEGORIES:RKK Therwil
CLASS:PUBLIC
DESCRIPTION;ALTREP="CID:<FFFF__=0ABBE548DFE235B58f9e8a93d@coffeebean.com>":
 Auf unserem Weg vom Schlössli in die Dorfkirche Biel-Benken tragen wir mit
 einander\, was uns bedrückt und werden erleben\, wie sich das Dunkle und S
 chwere in Licht und Wärme verwandelt. Wir treffen uns am Karsamstag\, den 
 4. April um 17 Uhr beim Schlössli in Biel-Benken. Bitte bringt ein Stück H
 olz mit\, das wir ins Osterfeuer legen werden. Der Weg ist kinderwagentaug
 lich\, eingeladen sind Familien mit Kindern aus Binningen-Bottmingen\, The
 rwil und Biel-Benken zu dieser ökumenischen Feier von Karfreitag und Oster
 n. Im Anschluss sind alle zu Brot und Fisch am Feuer eingeladen.\nLuca Pol
 icante-Roth und Elke Kreiselmeyer
DTSTART:20260404T150000Z
DTEND:20260404T170000Z
GEO:00;0
LOCATION:
ORGANIZER:
SEQUENCE:1
SUMMARY:Osterfeuer - Osterfeier in Biel-Benken
TRANSP:OPAQUE
URL:https://rkk-therwil.ch/aktuelles/archiv/455-osterfeuer-osterfeier-in-bi
 el-benken?layout=vcal
END:VEVENT
END:VCALENDAR
