BEGIN:VCALENDAR
VERSION:2.0
PRODID:-//RKK Therwil//NONSGML kigkonsult.se iCalcreator 2.41.92//
CALSCALE:GREGORIAN
METHOD:PUBLISH
UID:37666335-3834-4561-a466-353334306432
X-WR-CALNAME:iCagenda
X-WR-CALDESC:Event Management Extension for Joomla!
X-WR-RELCALID:3E26604A-50F4-4449-8B3E-E4F4932D05B5
X-WR-TIMEZONE:Europe/Zurich
BEGIN:VTIMEZONE
TZID:Europe/Zurich
TZUNTIL:20271031T010000Z
BEGIN:STANDARD
TZNAME:CET
DTSTART:20251026T030000
TZOFFSETFROM:+0200
TZOFFSETTO:+0100
RDATE:20261025T030000
END:STANDARD
BEGIN:DAYLIGHT
TZNAME:CEST
DTSTART:20260329T020000
TZOFFSETFROM:+0100
TZOFFSETTO:+0200
RDATE:20270328T020000
END:DAYLIGHT
END:VTIMEZONE
BEGIN:VEVENT
UID:35623031-3133-4133-a438-326463333566
DTSTAMP:20260425T121521Z
CATEGORIES:RKK Therwil
CLASS:PUBLIC
DESCRIPTION;ALTREP="CID:<FFFF__=0ABBE548DFE235B58f9e8a93d@coffeebean.com>":
 Sie engagieren sich in Ihrer Pfarrei\, machen vielleicht Hausbesuche\, beg
 leiten Firmreisen\, singen im Chor\, gestalten Kindergottesdienste mit ode
 r helfen an Altersnachmittagen? Das Thema „Nähe und Distanz“ ist brandaktu
 ell. So bieten wir Ihnen eine fundierte Weiterbildung an zum Thema: «Wie n
 ah ist zu nah? Prävention und Intervention bei Grenzverletzungen und sexue
 llen Übergriffen im kirchlichen Kontext.» Nähe und Distanz wird oft als ge
 gensätzlich betrachtet. Dabei geht es in der kirchlichen Arbeit nicht um e
 in «Entweder-oder»\, sondern um ein «Sowohl-als-auch». Die Beziehungsarbei
 t mit Personen verschiedenen Alters ist ohne aktive Beziehungsgestaltung u
 nd damit ohne angemessene\, klare und schützende Nähe und Distanz undenkba
 r. Die Teilnehmenden erhalten Impulse zu einer sorgfältigen Gestaltung und
  Reflexion der Handlungsmöglichkeiten und eigenen Haltung im kirchlichen K
 ontext. Das Kursangebot ist kostenlos. \nReferentin: Limita\, Fachstelle z
 ur Prävention sexueller Ausbeutung in Zürich. Am Samstag\, 25. April von 9
  bis 12.30 Uhr im Pfarreiheim\, Kummelenstrasse 3\, 4105 Oberwil. Bitte um
  Anmeldung an Kath. Pfarramt\, St. Peter und Paul\, 4104 Oberwil\, 061 401
  34 12 oder pfarramt@rkk-oberwil.ch\nMichael Frei Leiter Fachbereich Diako
 nie und kirchliche Sozialarbeit
DTSTART:20260425T070000Z
DTEND:20260425T103000Z
GEO:00;0
LOCATION:
ORGANIZER:
SEQUENCE:1
SUMMARY:Weiterbildung zum Thema „Nähe und Distanz“ für freiwillig und ehren
 amtlich Engagierte des Pastoralraums Leimental
TRANSP:OPAQUE
URL:https://rkk-therwil.ch/aktuelles/archiv/454-weiterbildung-zum-thema-nae
 he-und-distanz-fuer-freiwillig-und-ehrenamtlich-engagierte-des-pastoralrau
 ms-leimental?layout=vcal
END:VEVENT
END:VCALENDAR
