BEGIN:VCALENDAR
VERSION:2.0
PRODID:-//RKK Therwil//NONSGML kigkonsult.se iCalcreator 2.41.92//
CALSCALE:GREGORIAN
METHOD:PUBLISH
UID:62663931-3461-4362-a535-383962313264
X-WR-CALNAME:iCagenda
X-WR-CALDESC:Event Management Extension for Joomla!
X-WR-RELCALID:3E26604A-50F4-4449-8B3E-E4F4932D05B5
X-WR-TIMEZONE:Europe/Zurich
BEGIN:VTIMEZONE
TZID:Europe/Zurich
TZUNTIL:20271031T010000Z
BEGIN:STANDARD
TZNAME:CET
DTSTART:20251026T030000
TZOFFSETFROM:+0200
TZOFFSETTO:+0100
RDATE:20261025T030000
END:STANDARD
BEGIN:DAYLIGHT
TZNAME:CEST
DTSTART:20260329T020000
TZOFFSETFROM:+0100
TZOFFSETTO:+0200
RDATE:20270328T020000
END:DAYLIGHT
END:VTIMEZONE
BEGIN:VEVENT
UID:33343964-3366-4232-b961-613837303339
DTSTAMP:20260421T134315Z
CATEGORIES:RKK Therwil
CLASS:PUBLIC
DESCRIPTION;ALTREP="CID:<FFFF__=0ABBE548DFE235B58f9e8a93d@coffeebean.com>":
 Unsere neue Osterkerze schenkt uns einen Perspektivenwechsel und zeigt den
  Blick aus dem dunklen Grab hinauf ans helle Licht. Das Grab hat die Form 
 des Omega\, des letzten Buchstaben im griechischen Alphabet\, Symbol für d
 as Ende\, den Tod. Doch da\, wo wir glauben\, dass es nicht mehr weitergeh
 en kann\, ist auf einmal eine grüne Wiese zu sehen und ein strahlend helle
 r Morgen bricht an. Wir sehen die rote Sonne am Horizont aufsteigen\, ihre
  warmen hellen Strahlen färben den ganzen Himmel schon goldgelb. Und vor d
 er Sonne erscheint in goldener Farbe ein Buchstabe: ein grosses goldenes A
 . Denn das Alpha ist im griechischen Alphabet der allererste Buchstabe. Go
 tt selbst führt uns die Stufen hinauf und mitten hinein in dieses österlic
 he Licht.&nbsp\; Ein herzliches Dankeschön an alle Frauen\, die unsere neu
 en Osterkerzen für die Stephanskirche\, die St. Annakapelle\, die Biel-Ben
 kemer Dorfkirche und die Kapelle im Altersheim Blumenrain entworfen und ge
 staltet haben. Die Osterkerzen können wieder als Hauskerzen vor der Ostern
 acht für CHF 13.- gekauft werden. Sie sind nach Ostern auch noch im Sekret
 ariat von Di bis Fr von 8-11.30 Uhr zu erwerben.\nFür die Gruppe: Ines Jäg
 gi
DTSTART:20260404T183000Z
DTEND:20260404T190000Z
GEO:00;0
LOCATION:
ORGANIZER:
SEQUENCE:1
SUMMARY:Osterkerze 2026 – „Aus dem dunklen Grab ins helle Licht»
TRANSP:OPAQUE
URL:https://rkk-therwil.ch/aktuelles/archiv/453-osterkerze-2026-aus-dem-dun
 klen-grab-ins-helle-licht?layout=vcal
END:VEVENT
END:VCALENDAR
