BEGIN:VCALENDAR
VERSION:2.0
PRODID:-//RKK Therwil//NONSGML kigkonsult.se iCalcreator 2.41.92//
CALSCALE:GREGORIAN
METHOD:PUBLISH
UID:36326133-3762-4432-a365-386265363735
X-WR-CALNAME:iCagenda
X-WR-CALDESC:Event Management Extension for Joomla!
X-WR-RELCALID:3E26604A-50F4-4449-8B3E-E4F4932D05B5
X-WR-TIMEZONE:Europe/Zurich
BEGIN:VTIMEZONE
TZID:Europe/Zurich
TZUNTIL:20271031T010000Z
BEGIN:STANDARD
TZNAME:CET
DTSTART:20251026T030000
TZOFFSETFROM:+0200
TZOFFSETTO:+0100
RDATE:20261025T030000
END:STANDARD
BEGIN:DAYLIGHT
TZNAME:CEST
DTSTART:20260329T020000
TZOFFSETFROM:+0100
TZOFFSETTO:+0200
RDATE:20270328T020000
END:DAYLIGHT
END:VTIMEZONE
BEGIN:VEVENT
UID:33623666-3139-4564-a337-363634623766
DTSTAMP:20260421T084958Z
CATEGORIES:RKK Therwil
CLASS:PUBLIC
DESCRIPTION;ALTREP="CID:<FFFF__=0ABBE548DFE235B58f9e8a93d@coffeebean.com>":
 Um 15 Uhr findet die Karfreitagsliturgie in der Hl. Kreuz Kirche in Binnin
 gen statt. Mitwirkende Musik: M. Schwenkreis\, Orgel und S. Lill\, Sopran.
  Am Karfreitag sind wir eingeladen die Passion Jesus Christi auf uns wirke
 n zu lassen\, unsere Ohnmacht aus- und dem hinzuhalten\, der den Tod überw
 unden hat. Wir werden bei der sog. Kreuzverehrung die schweren Momente in 
 unserem Leben anzunehmen versuchen. Es geht nicht immer gerade und gut\, v
 ielmehr ist es oft zum Schreien und nicht auszuhalten. Gemeinsam schaffen 
 wir das besser. Mit Ihrer Anwesenheit werden Sie vielleicht jemanden darin
  stärken. \nAlbert Dani
DTSTART:20260403T130000Z
DTEND:20260403T143000Z
GEO:00;0
LOCATION:
ORGANIZER:
SEQUENCE:1
SUMMARY:Karfreitagsliturgie in der Pfarrei Heilig Kreuz Binningen-Bottminge
 n
TRANSP:OPAQUE
URL:https://rkk-therwil.ch/aktuelles/archiv/452-karfreitagsliturgie-in-der-
 pfarrei-heilig-kreuz-binningen-bottmingen
END:VEVENT
END:VCALENDAR
