BEGIN:VCALENDAR
VERSION:2.0
PRODID:-//RKK Therwil//NONSGML kigkonsult.se iCalcreator 2.41.92//
CALSCALE:GREGORIAN
METHOD:PUBLISH
UID:66623634-3334-4232-a663-633039376665
X-WR-CALNAME:iCagenda
X-WR-CALDESC:Event Management Extension for Joomla!
X-WR-RELCALID:3E26604A-50F4-4449-8B3E-E4F4932D05B5
X-WR-TIMEZONE:Europe/Zurich
BEGIN:VTIMEZONE
TZID:Europe/Zurich
TZUNTIL:20271031T010000Z
BEGIN:STANDARD
TZNAME:CET
DTSTART:20251026T030000
TZOFFSETFROM:+0200
TZOFFSETTO:+0100
RDATE:20261025T030000
END:STANDARD
BEGIN:DAYLIGHT
TZNAME:CEST
DTSTART:20260329T020000
TZOFFSETFROM:+0100
TZOFFSETTO:+0200
RDATE:20270328T020000
END:DAYLIGHT
END:VTIMEZONE
BEGIN:VEVENT
UID:61313339-3830-4839-b336-636462653832
DTSTAMP:20260421T135815Z
CATEGORIES:RKK Therwil
CLASS:PUBLIC
DESCRIPTION;ALTREP="CID:<FFFF__=0ABBE548DFE235B58f9e8a93d@coffeebean.com>":
 Abschied gestalten – Feierliche Liturgie am Hohen Donnerstag\nAm Hohen Don
 nerstag\, den 2. April feiert Spitalseelsorger Markus Tippmar um 19.30 Uhr
  mit uns Eucharistie. Musikalisch erklingen Werke von Johann Sebastian Bac
 h\, Anton Bruckner\, Maurice Duruflé und Jessica Horsley.\nElke Kreiselmey
 er
DTSTART:20260402T173000Z
DTEND:20260402T183000Z
GEO:00;0
LOCATION:
ORGANIZER:
SEQUENCE:1
SUMMARY:Gottesdienst mit Eucharistiefeier\, mitgestaltet durch die beiden K
 irchenchöre von Binningen-Bottmingen und Therwil/Biel-Benken
TRANSP:OPAQUE
URL:https://rkk-therwil.ch/aktuelles/archiv/449-gottesdienst-mit-eucharisti
 efeier-mitgestaltet-durch-die-beiden-kirchenchoere-von-binningen-bottminge
 n-und-therwil-biel-benken?layout=vcal
END:VEVENT
END:VCALENDAR
