BEGIN:VCALENDAR
VERSION:2.0
PRODID:-//RKK Therwil//NONSGML kigkonsult.se iCalcreator 2.41.92//
CALSCALE:GREGORIAN
METHOD:PUBLISH
UID:61373962-3163-4537-b138-663833343935
X-WR-CALNAME:iCagenda
X-WR-CALDESC:Event Management Extension for Joomla!
X-WR-RELCALID:3E26604A-50F4-4449-8B3E-E4F4932D05B5
X-WR-TIMEZONE:Europe/Zurich
BEGIN:VTIMEZONE
TZID:Europe/Zurich
TZUNTIL:20271031T010000Z
BEGIN:STANDARD
TZNAME:CET
DTSTART:20251026T030000
TZOFFSETFROM:+0200
TZOFFSETTO:+0100
RDATE:20261025T030000
END:STANDARD
BEGIN:DAYLIGHT
TZNAME:CEST
DTSTART:20260329T020000
TZOFFSETFROM:+0100
TZOFFSETTO:+0200
RDATE:20270328T020000
END:DAYLIGHT
END:VTIMEZONE
BEGIN:VEVENT
UID:38356135-3032-4762-a664-306638303837
DTSTAMP:20260421T133602Z
CATEGORIES:RKK Therwil
CLASS:PUBLIC
DESCRIPTION;ALTREP="CID:<FFFF__=0ABBE548DFE235B58f9e8a93d@coffeebean.com>":
 \n\n\n\nEin feines und ausgewogenes Zmittag gibt’s um 12:15 Uhr im Pfarrei
 heim in Therwil für CHF 7.-\, Kinder bis zur ersten Klasse CHF 5.- .Lassen
  Sie sich das nicht entgehen.\nEn Guete!\n\n\n
DTSTART:20260416T101500Z
DTEND:20260416T111500Z
GEO:00;0
LOCATION:
ORGANIZER:
SEQUENCE:1
SUMMARY:Donnschtigstisch
TRANSP:OPAQUE
URL:https://rkk-therwil.ch/aktuelles/archiv/439-donnschtigstisch-15/2026-04
 -16-12-15?layout=vcal
END:VEVENT
END:VCALENDAR
