BEGIN:VCALENDAR
VERSION:2.0
PRODID:-//RKK Therwil//NONSGML kigkonsult.se iCalcreator 2.41.92//
CALSCALE:GREGORIAN
METHOD:PUBLISH
UID:32316639-6666-4962-a438-356138633131
X-WR-CALNAME:iCagenda
X-WR-CALDESC:Event Management Extension for Joomla!
X-WR-RELCALID:3E26604A-50F4-4449-8B3E-E4F4932D05B5
X-WR-TIMEZONE:Europe/Zurich
BEGIN:VTIMEZONE
TZID:Europe/Zurich
TZUNTIL:20251026T010000Z
BEGIN:STANDARD
TZNAME:CET
DTSTART:20231029T030000
TZOFFSETFROM:+0200
TZOFFSETTO:+0100
RDATE:20241027T030000
END:STANDARD
BEGIN:DAYLIGHT
TZNAME:CEST
DTSTART:20230326T020000
TZOFFSETFROM:+0100
TZOFFSETTO:+0200
RDATE:20240331T020000
RDATE:20250330T020000
END:DAYLIGHT
END:VTIMEZONE
BEGIN:VEVENT
UID:36643364-3530-4961-b533-666131366164
DTSTAMP:20260421T235738Z
CATEGORIES:RKK Therwil
CLASS:PUBLIC
DESCRIPTION;ALTREP="CID:<FFFF__=0ABBE548DFE235B58f9e8a93d@coffeebean.com>":
 Am Sonntag\, den 5. November um 14 Uhr erinnern wir uns in der katholische
 n Kirche St. Stephan in Therwil in einer ökumenischen Feier an unsere Vers
 torbenen. Wir verlesen die Namen der übers Jahr Verstorbenen\, die einer u
 nserer Konfessionen angehört haben und zünden für jede und jeden Verstorbe
 nen eine Kerze an. Willkommen sind alle\, die in Trauer sind\, auch alle\,
  die schon länger jemand verloren haben oder um einen Menschen trauern\, d
 er nicht in Therwil bestattet wurde. Die Feier wird gestaltet von Patrick 
 Blickenstorfer (christkath.)\, Philippe Moosbrugger (röm.-kath.) und Lea M
 eier (ref.). Der &nbsp\;Kirchenchor St. Stephan begleitet die Feier musika
 lisch\; mit dabei ist auch die Musikgesellschaft Concordia.\nPhilippe Moos
 brugger\, Patrick Blickenstorfer und Lea Meier
DTSTART:20231105T130000Z
DTEND:20231105T143000Z
GEO:00;0
LOCATION:
ORGANIZER:
SEQUENCE:1
SUMMARY:Totengedenken – Ökumenischer Gottesdienst
TRANSP:OPAQUE
URL:https://rkk-therwil.ch/aktuelles/archiv/40-totengedenken-oekumenischer-
 gottes-dienst?layout=vcal
END:VEVENT
END:VCALENDAR
