BEGIN:VCALENDAR
VERSION:2.0
PRODID:-//RKK Therwil//NONSGML kigkonsult.se iCalcreator 2.41.92//
CALSCALE:GREGORIAN
METHOD:PUBLISH
UID:66333664-6435-4232-b763-616133656234
X-WR-CALNAME:iCagenda
X-WR-CALDESC:Event Management Extension for Joomla!
X-WR-RELCALID:3E26604A-50F4-4449-8B3E-E4F4932D05B5
X-WR-TIMEZONE:Europe/Zurich
BEGIN:VTIMEZONE
TZID:Europe/Zurich
TZUNTIL:20251026T010000Z
BEGIN:STANDARD
TZNAME:CET
DTSTART:20231029T030000
TZOFFSETFROM:+0200
TZOFFSETTO:+0100
RDATE:20241027T030000
END:STANDARD
BEGIN:DAYLIGHT
TZNAME:CEST
DTSTART:20230326T020000
TZOFFSETFROM:+0100
TZOFFSETTO:+0200
RDATE:20240331T020000
RDATE:20250330T020000
END:DAYLIGHT
END:VTIMEZONE
BEGIN:VEVENT
UID:34646638-3566-4338-b765-663864646330
DTSTAMP:20260422T094334Z
CATEGORIES:RKK Therwil
CLASS:PUBLIC
DESCRIPTION;ALTREP="CID:<FFFF__=0ABBE548DFE235B58f9e8a93d@coffeebean.com>":
 Liebe Pfarreiangehörige\, wir laden Sie ein zur Kirchgemeindeversammlung a
 m Dienstag\, 21. November\, um 20 Uhr in das Pfarreiheim Therwil.\nTraktan
 den:\n1. Protokoll der Kirchgemeindeversammlung vom 20.06.2023\n2. Voransc
 hlag 2024\n3. Informationen des Kirchgemeinderates\n4. Aus Pfarrei und See
 lsorge\n&nbsp\;&nbsp\;&nbsp\; 4.1 Gottesdienste Biel-Benken\n5. Varia\nUnt
 erlagen zu den Traktanden 1 und 2 sind im Internet ab 10. November unter w
 ww.rkk-therwil.ch/dokumente zugänglich oder können im Sekretariat angeford
 ert werden. Im Anschluss an die Versammlung lädt der Kirchenrat zum Apéro 
 ein.
DTSTART:20231121T190000Z
DTEND:20231121T203000Z
GEO:00;0
LOCATION:
ORGANIZER:
SEQUENCE:1
SUMMARY:Kirchgemeindeversammlung
TRANSP:OPAQUE
URL:https://rkk-therwil.ch/aktuelles/archiv/39-kirchgemeindeversammlung?lay
 out=vcal
END:VEVENT
END:VCALENDAR
