BEGIN:VCALENDAR
VERSION:2.0
PRODID:-//RKK Therwil//NONSGML kigkonsult.se iCalcreator 2.41.92//
CALSCALE:GREGORIAN
METHOD:PUBLISH
UID:63643634-3061-4537-a262-366134386436
X-WR-CALNAME:iCagenda
X-WR-CALDESC:Event Management Extension for Joomla!
X-WR-RELCALID:3E26604A-50F4-4449-8B3E-E4F4932D05B5
X-WR-TIMEZONE:Europe/Zurich
BEGIN:VTIMEZONE
TZID:Europe/Zurich
TZUNTIL:20270328T010000Z
BEGIN:STANDARD
TZNAME:CET
DTSTART:20241027T030000
TZOFFSETFROM:+0200
TZOFFSETTO:+0100
RDATE:20251026T030000
RDATE:20261025T030000
END:STANDARD
BEGIN:DAYLIGHT
TZNAME:CEST
DTSTART:20250330T020000
TZOFFSETFROM:+0100
TZOFFSETTO:+0200
RDATE:20260329T020000
END:DAYLIGHT
END:VTIMEZONE
BEGIN:VEVENT
UID:62356161-3061-4064-b161-613765623337
DTSTAMP:20260421T201937Z
CATEGORIES:RKK Therwil
CLASS:PUBLIC
DESCRIPTION;ALTREP="CID:<FFFF__=0ABBE548DFE235B58f9e8a93d@coffeebean.com>":
 Wenn Ihr Kind in eine 3. Klasse der Primarschule Therwil oder Biel-Benken 
 gekommen und in der Schule als katholisch gemeldet ist\, haben Sie eine Ei
 nladung zum Informationselternabend für die Erstkommunion 2026 erhalten. D
 ieser findet am Dienstag\, den 23. September um 19.30 Uhr im Pfarreiheim i
 n Therwil statt. Eltern\, deren Kind Erstkommunion machen möchte\, aber da
 s in eine 3. Primarklasse einer anderen Schule geht\, melden sich bitte se
 lbst bei uns im Pfarreisekretariat.\nElke Kreiselmeyer und Corinne André
DTSTART:20250923T173000Z
DTEND:20250923T190000Z
GEO:00;0
LOCATION:
ORGANIZER:
SEQUENCE:1
SUMMARY:Elternabend Erstkommunion
TRANSP:OPAQUE
URL:https://rkk-therwil.ch/aktuelles/archiv/381-elternabend-erstkommunion-3
 ?layout=vcal
END:VEVENT
END:VCALENDAR
