BEGIN:VCALENDAR
VERSION:2.0
PRODID:-//RKK Therwil//NONSGML kigkonsult.se iCalcreator 2.41.92//
CALSCALE:GREGORIAN
METHOD:PUBLISH
UID:66393032-3933-4338-b164-396264333334
X-WR-CALNAME:iCagenda
X-WR-CALDESC:Event Management Extension for Joomla!
X-WR-RELCALID:3E26604A-50F4-4449-8B3E-E4F4932D05B5
X-WR-TIMEZONE:Europe/Zurich
BEGIN:VTIMEZONE
TZID:Europe/Zurich
TZUNTIL:20270328T010000Z
BEGIN:STANDARD
TZNAME:CET
DTSTART:20241027T030000
TZOFFSETFROM:+0200
TZOFFSETTO:+0100
RDATE:20251026T030000
RDATE:20261025T030000
END:STANDARD
BEGIN:DAYLIGHT
TZNAME:CEST
DTSTART:20250330T020000
TZOFFSETFROM:+0100
TZOFFSETTO:+0200
RDATE:20260329T020000
END:DAYLIGHT
END:VTIMEZONE
BEGIN:VEVENT
UID:39636337-3361-4061-b332-343239636662
DTSTAMP:20260421T221716Z
CATEGORIES:RKK Therwil
CLASS:PUBLIC
DESCRIPTION;ALTREP="CID:<FFFF__=0ABBE548DFE235B58f9e8a93d@coffeebean.com>":
 Frau Anita Röösli von Pro Senectute Beider Basel bringt uns die Patientenv
 erfügung und den Vorsorgeauftrag näher am Dienstag\, 23. September um 14.3
 0 Uhr im Pfarreiheim St. Stephan\, Hinterkirchweg 31 in Therwil. Anschlies
 send gibt es Kaffee oder Tee und ein feines Zvieri. Sie erfahren\, wie Sie
  Ihre Wünsche bezüglich medizinischer Behandlung festhalten können. Frau R
 öösli wird Ihnen den «Docupass» der Pro Senectute Schweiz vorstellen sowie
  weitere Unterlagen. Falls Sie einen Fahrdienst benötigen\, dann zögern Si
 e nicht sich zu melden: 079 332 23 10 oder corinne.andre@rkk-therwil.ch\nC
 orinne André und Team
DTSTART:20250923T123000Z
DTEND:20250923T151500Z
GEO:00;0
LOCATION:
ORGANIZER:
SEQUENCE:1
SUMMARY:Alles Wissenswerte zu Patientenverfügung und Vorsorgeauftrag bei gr
 au&schlau
TRANSP:OPAQUE
URL:https://rkk-therwil.ch/aktuelles/archiv/380-alles-wissenswerte-zu-patie
 ntenverfuegung-und-vorsorgeauftrag-bei-grau-schlau?layout=vcal
END:VEVENT
END:VCALENDAR
