BEGIN:VCALENDAR
VERSION:2.0
PRODID:-//RKK Therwil//NONSGML kigkonsult.se iCalcreator 2.41.92//
CALSCALE:GREGORIAN
METHOD:PUBLISH
UID:30623861-6262-4334-a265-333038356364
X-WR-CALNAME:iCagenda
X-WR-CALDESC:Event Management Extension for Joomla!
X-WR-RELCALID:3E26604A-50F4-4449-8B3E-E4F4932D05B5
X-WR-TIMEZONE:Europe/Zurich
BEGIN:VTIMEZONE
TZID:Europe/Zurich
TZUNTIL:20251026T010000Z
BEGIN:STANDARD
TZNAME:CET
DTSTART:20231029T030000
TZOFFSETFROM:+0200
TZOFFSETTO:+0100
RDATE:20241027T030000
END:STANDARD
BEGIN:DAYLIGHT
TZNAME:CEST
DTSTART:20230326T020000
TZOFFSETFROM:+0100
TZOFFSETTO:+0200
RDATE:20240331T020000
RDATE:20250330T020000
END:DAYLIGHT
END:VTIMEZONE
BEGIN:VEVENT
UID:61643166-6132-4839-b437-343935383631
DTSTAMP:20260425T140246Z
CATEGORIES:RKK Therwil
CLASS:PUBLIC
DESCRIPTION;ALTREP="CID:<FFFF__=0ABBE548DFE235B58f9e8a93d@coffeebean.com>":
 Als wir vor einem halben Jahr zu Beginn des Firmkurses unsere Firmlinge ge
 fragt haben\, wie sie sich Gott vorstellen\, haben einige vom offenem Meer
  oder vom weitem Himmel gesprochen. Diesen Vorstellungen ist gemeinsam\, d
 ass Gott uns umgibt\, wo immer wir uns hinwenden. Das Motto der diesjährig
 en Firmung bringt einen weiteren Aspekt von Gottesvorstellung zur Sprache:
  Der Leuchtturm als Ort\, der auf diesem offenen Meer und unter diesem wei
 ten Himmel Orientierung und Sicherheit schenkt. Beides wünschen wir unsere
 n Firmlingen: Dass sie sich auf ihrem Weg in die Selbständigkeit hinein st
 ets von Gott begleitet wissen und in Zeiten der Verunsicherung oder Moment
 en der Gefahr Orientierung und Sicherheit finden. Gefirmt werden: Mathias 
 Brodmann\, Tim Kapulica\, Joëlle Rouiller\, Emiliano Ruch\, Alexandra Ruff
 ieux und Nastassja Studer. Generalvikar Markus Thürig wird unsere jungen E
 rwachsenen im Auftrag des Bischofs am Samstag\, 11. November&nbsp\; um 16 
 Uhr firmen. Die Feier wird vom Projektchor musikalisch bereichert und im A
 nschluss sind alle zu einem Apéro ins Pfarreiheim eingeladen.\nMirjam Rein
 precht und&nbsp\; Philippe Moosbrugger
DTSTART:20231111T150000Z
DTEND:20231111T170000Z
GEO:00;0
LOCATION:
ORGANIZER:
SEQUENCE:1
SUMMARY:Weite und Halt - Firmung 2023
TRANSP:OPAQUE
URL:https://rkk-therwil.ch/aktuelles/archiv/38-weite-und-halt-firmung-2023?
 layout=vcal
END:VEVENT
END:VCALENDAR
