BEGIN:VCALENDAR
VERSION:2.0
PRODID:-//RKK Therwil//NONSGML kigkonsult.se iCalcreator 2.41.92//
CALSCALE:GREGORIAN
METHOD:PUBLISH
UID:35653663-3865-4033-b732-666164613430
X-WR-CALNAME:iCagenda
X-WR-CALDESC:Event Management Extension for Joomla!
X-WR-RELCALID:3E26604A-50F4-4449-8B3E-E4F4932D05B5
X-WR-TIMEZONE:Europe/Zurich
BEGIN:VTIMEZONE
TZID:Europe/Zurich
TZUNTIL:20271031T010000Z
BEGIN:STANDARD
TZNAME:CET
DTSTART:20241027T030000
TZOFFSETFROM:+0200
TZOFFSETTO:+0100
RDATE:20251026T030000
RDATE:20261025T030000
END:STANDARD
BEGIN:DAYLIGHT
TZNAME:CEST
DTSTART:20250330T020000
TZOFFSETFROM:+0100
TZOFFSETTO:+0200
RDATE:20260329T020000
RDATE:20270328T020000
END:DAYLIGHT
END:VTIMEZONE
BEGIN:VEVENT
UID:36353239-3037-4336-b261-653666393863
DTSTAMP:20260422T041228Z
CATEGORIES:RKK Therwil
CLASS:PUBLIC
DESCRIPTION;ALTREP="CID:<FFFF__=0ABBE548DFE235B58f9e8a93d@coffeebean.com>":
 Sommer und Herbst ist Erntezeit. Alles\, was wir ernten\, ist irgendwann e
 inmal auf dieser Erde entstanden und gewachsen. Das gilt für die Äpfel\, d
 ie zur Zeit an den Bäumen reif werden genauso wie für die Baumwolle\, aus 
 der Kleidung hergestellt wird. Das gemeinsame Feiern des Erntedankgottesdi
 enstes ruft die Zusammenhänge wieder ins Bewusstsein und ist ein Grund\, d
 ankbar zu sein. Wenn Sie einen Garten haben\, sind Sie herzlich eingeladen
 \, einen Teil ihrer Ernte mitzubringen und vor den Altar zu legen. Die Ern
 tekörbe werden gesegnet und können anschliessend wieder mit nach Hause gen
 ommen werden. Der Gottesdienst findet statt am Sonntag\, den 5. Oktober um
  10 Uhr\, in Therwil.\nRalf Kreiselmeyer
DTSTART:20251005T080000Z
DTEND:20251005T091500Z
GEO:00;0
LOCATION:
ORGANIZER:
SEQUENCE:1
SUMMARY:Gottesdienst zum Erntedank mit Kommunionfeier
TRANSP:OPAQUE
URL:https://rkk-therwil.ch/aktuelles/archiv/377-gottesdienst-mit-kommunionf
 eier-zum-erntedank?layout=vcal
END:VEVENT
END:VCALENDAR
