BEGIN:VCALENDAR
VERSION:2.0
PRODID:-//RKK Therwil//NONSGML kigkonsult.se iCalcreator 2.41.92//
CALSCALE:GREGORIAN
METHOD:PUBLISH
UID:35613938-6338-4861-b263-383235633062
X-WR-CALNAME:iCagenda
X-WR-CALDESC:Event Management Extension for Joomla!
X-WR-RELCALID:3E26604A-50F4-4449-8B3E-E4F4932D05B5
X-WR-TIMEZONE:Europe/Zurich
BEGIN:VTIMEZONE
TZID:Europe/Zurich
TZUNTIL:20270328T010000Z
BEGIN:STANDARD
TZNAME:CET
DTSTART:20241027T030000
TZOFFSETFROM:+0200
TZOFFSETTO:+0100
RDATE:20251026T030000
RDATE:20261025T030000
END:STANDARD
BEGIN:DAYLIGHT
TZNAME:CEST
DTSTART:20250330T020000
TZOFFSETFROM:+0100
TZOFFSETTO:+0200
RDATE:20260329T020000
END:DAYLIGHT
END:VTIMEZONE
BEGIN:VEVENT
UID:35353132-6133-4764-b934-383631643139
DTSTAMP:20260421T221624Z
CATEGORIES:RKK Therwil
CLASS:PUBLIC
DESCRIPTION;ALTREP="CID:<FFFF__=0ABBE548DFE235B58f9e8a93d@coffeebean.com>":
 «Du aber\, wer bist du\, dass du über deinen Nächsten urteilst?»\, fragt j
 emand im Jakobusbrief. Schon in der Bibel wird er verhandelt\, der Umgang 
 mit Menschen\, die wir nicht verstehen oder mit denen wir nicht einverstan
 den sind. Der Gottesdienst zum Bettag steht in dieser Traditionslinie und 
 wir denken dem Einordnen\, Urteilen und letztlich der Grosszügigkeit gegen
 über anderen und sich selber gemeinsam nach. Am Sonntag\, den 21. Septembe
 r\, laden die römisch-katholische und die reformierte Kirchgemeinde zum Go
 ttesdienst mit reformierten Abendmahl um 10 Uhr in der katholischen Kirche
  Therwil ein. In gut ökumenischer Art findet der anschliessende Apéro im G
 üggel der reformierten Kirche statt.\nElke Kreiselmeyer\, Cristina Polican
 te
DTSTART:20250921T080000Z
DTEND:20250921T093000Z
GEO:00;0
LOCATION:
ORGANIZER:
SEQUENCE:1
SUMMARY:Ökumenischer Gottesdienst zum Eidgenössischen Dank-\, Buss- und Bet
 tag
TRANSP:OPAQUE
URL:https://rkk-therwil.ch/aktuelles/archiv/375-oekumenischer-gottesdienst-
 zum-eidgenoessischen-dank-buss-und-bettag-3?layout=vcal
END:VEVENT
END:VCALENDAR
