BEGIN:VCALENDAR
VERSION:2.0
PRODID:-//RKK Therwil//NONSGML kigkonsult.se iCalcreator 2.41.92//
CALSCALE:GREGORIAN
METHOD:PUBLISH
UID:35383963-3863-4139-b037-663039336238
X-WR-CALNAME:iCagenda
X-WR-CALDESC:Event Management Extension for Joomla!
X-WR-RELCALID:3E26604A-50F4-4449-8B3E-E4F4932D05B5
X-WR-TIMEZONE:Europe/Zurich
BEGIN:VTIMEZONE
TZID:Europe/Zurich
TZUNTIL:20270328T010000Z
BEGIN:STANDARD
TZNAME:CET
DTSTART:20241027T030000
TZOFFSETFROM:+0200
TZOFFSETTO:+0100
RDATE:20251026T030000
RDATE:20261025T030000
END:STANDARD
BEGIN:DAYLIGHT
TZNAME:CEST
DTSTART:20250330T020000
TZOFFSETFROM:+0100
TZOFFSETTO:+0200
RDATE:20260329T020000
END:DAYLIGHT
END:VTIMEZONE
BEGIN:VEVENT
UID:64633138-3266-4463-b633-623061396136
DTSTAMP:20260421T221706Z
CATEGORIES:RKK Therwil
CLASS:PUBLIC
DESCRIPTION;ALTREP="CID:<FFFF__=0ABBE548DFE235B58f9e8a93d@coffeebean.com>":
 Unsere musikalischen Abendgebete in der anglikanischen Tradition des Chora
 l Evensong finden im Monat September eigentlich zur Tag-und-Nacht-Gleiche 
 statt. Anlässlich des 5. Basler Orgelfestivals vom 5.-14. September machen
  wir sehr gerne eine Ausnahme. Unser nächster Choral Evensong findet desha
 lb am Samstag\, den 6. September um 17 Uhr in der Stephanskirche Therwil i
 m Rahmen dieses Orgelfestivals unter dem Festivalmotto „Schatzsuche“ statt
 . Und mit musikalischen Schätzen aus dem Fitzwilliam Virginal Book\, im 16
 . Jahrhundert auf Papier aus der Basler Papiermühle der Familie Düren gedr
 uckt\, sowie mit Werken von Orlando Gibbons anlässlich dessen 400. Todesta
 gs hat unser Organist Ralph Stelzenmüller Wunderbares gesucht und gefunden
 . Die liturgische Feier dauert dieses Mal etwa eine Stunde und Sie dürfen 
 sich auf die klangvollen Stimmen des Ensemble Combassal freuen\, auf Worte
 \, auf Segen und auf wohltuende Stille. Wir laden ein zu suchen und zu fin
 den.\nRalph Stelzenmüller und Elke Kreiselmeyer
DTSTART:20250906T150000Z
DTEND:20250906T163000Z
GEO:00;0
LOCATION:
ORGANIZER:
SEQUENCE:1
SUMMARY:Vom Suchen und vom Finden – Choral Evensong mit dem Ensemble Combas
 sal anlässlich des 5. Basler Orgelfestivals
TRANSP:OPAQUE
URL:https://rkk-therwil.ch/aktuelles/archiv/374-vom-suchen-und-vom-finden-c
 horal-evensong-mit-dem-ensemble-combassal-anlaesslich-des-5-basler-orgelfe
 stivals?layout=vcal
END:VEVENT
END:VCALENDAR
