BEGIN:VCALENDAR
VERSION:2.0
PRODID:-//RKK Therwil//NONSGML kigkonsult.se iCalcreator 2.41.92//
CALSCALE:GREGORIAN
METHOD:PUBLISH
UID:32656330-6232-4135-b531-633261656562
X-WR-CALNAME:iCagenda
X-WR-CALDESC:Event Management Extension for Joomla!
X-WR-RELCALID:3E26604A-50F4-4449-8B3E-E4F4932D05B5
X-WR-TIMEZONE:Europe/Zurich
BEGIN:VTIMEZONE
TZID:Europe/Zurich
TZUNTIL:20270328T010000Z
BEGIN:STANDARD
TZNAME:CET
DTSTART:20241027T030000
TZOFFSETFROM:+0200
TZOFFSETTO:+0100
RDATE:20251026T030000
RDATE:20261025T030000
END:STANDARD
BEGIN:DAYLIGHT
TZNAME:CEST
DTSTART:20250330T020000
TZOFFSETFROM:+0100
TZOFFSETTO:+0200
RDATE:20260329T020000
END:DAYLIGHT
END:VTIMEZONE
BEGIN:VEVENT
UID:61306434-3830-4765-b232-653534323135
DTSTAMP:20260421T202107Z
CATEGORIES:RKK Therwil
CLASS:PUBLIC
DESCRIPTION;ALTREP="CID:<FFFF__=0ABBE548DFE235B58f9e8a93d@coffeebean.com>":
 Das Leben ist voller Überraschungen und manchmal auch verrückter Momente. 
 Es bringt uns unerwartete Wendungen\, lustige Missgeschicke und spannende 
 Abenteuer. Diese Verrücktheiten machen das Leben bunt\, unvorhersehbar und
  manchmal chaotisch\, aber genau das ist es\, was es so einzigartig und le
 bendig macht. Kommen Sie am Dienstag\, den 2. September von 10 bis 11.30 U
 hr vorbei im Begegnungszentrum BeZ zum nächsten Philo-Kaffi. Es gibt Kaffe
 e oder Tee und Gipfeli. Bei Fragen dürfen Sie sich gerne an Corinne André 
 wenden.\nCorinne André
DTSTART:20250902T080000Z
DTEND:20250902T090000Z
GEO:00;0
LOCATION:
ORGANIZER:
SEQUENCE:1
SUMMARY:Philo-Kaffi «Verrücktheiten des Lebens»
TRANSP:OPAQUE
URL:https://rkk-therwil.ch/aktuelles/archiv/373-philo-kaffi-verruecktheiten
 -des-lebens?layout=vcal
END:VEVENT
END:VCALENDAR
