BEGIN:VCALENDAR
VERSION:2.0
PRODID:-//RKK Therwil//NONSGML kigkonsult.se iCalcreator 2.41.92//
CALSCALE:GREGORIAN
METHOD:PUBLISH
UID:61316437-3661-4164-b462-373864326133
X-WR-CALNAME:iCagenda
X-WR-CALDESC:Event Management Extension for Joomla!
X-WR-RELCALID:3E26604A-50F4-4449-8B3E-E4F4932D05B5
X-WR-TIMEZONE:Europe/Zurich
BEGIN:VTIMEZONE
TZID:Europe/Zurich
TZUNTIL:20270328T010000Z
BEGIN:STANDARD
TZNAME:CET
DTSTART:20241027T030000
TZOFFSETFROM:+0200
TZOFFSETTO:+0100
RDATE:20251026T030000
RDATE:20261025T030000
END:STANDARD
BEGIN:DAYLIGHT
TZNAME:CEST
DTSTART:20250330T020000
TZOFFSETFROM:+0100
TZOFFSETTO:+0200
RDATE:20260329T020000
END:DAYLIGHT
END:VTIMEZONE
BEGIN:VEVENT
UID:36393232-3565-4631-b162-306138633363
DTSTAMP:20260421T202021Z
CATEGORIES:RKK Therwil
CLASS:PUBLIC
DESCRIPTION;ALTREP="CID:<FFFF__=0ABBE548DFE235B58f9e8a93d@coffeebean.com>":
 Erfreulicherweise haben sich auch dieses Jahr wieder genügend Pfarreiangeh
 örige gemeldet\, so dass wir am Montag\, den 15. September in Béa Würstens
  Atelier «Bonne Idee» in Aesch beginnen können\, die neue Weihnachtskrippe
  in unserer Kirche zu vervollständigen. Aus den noch etwas unansehnlichen 
 Rohlingen werden innerhalb mehrerer Wochen die drei Sterndeuter aus dem Mo
 rgenland\, der Engel Gabriel\, und zwei weitere Hirten entstehen. Wir freu
 en uns auf diese Zusammenarbeit und werden gerne in den kommenden Wochen i
 mmer wieder einmal darüber berichten.\nPhilippe Moosbrugger
DTSTART:20250915T160000Z
DTEND:20250915T190000Z
GEO:00;0
LOCATION:
ORGANIZER:
SEQUENCE:1
SUMMARY:Der zweite Krippenfigurenkurs kann starten!
TRANSP:OPAQUE
URL:https://rkk-therwil.ch/aktuelles/archiv/372-der-zweite-krippenfigurenku
 rs-kann-starten?layout=vcal
END:VEVENT
END:VCALENDAR
