BEGIN:VCALENDAR
VERSION:2.0
PRODID:-//RKK Therwil//NONSGML kigkonsult.se iCalcreator 2.41.92//
CALSCALE:GREGORIAN
METHOD:PUBLISH
UID:32333364-3536-4737-b036-623638326161
X-WR-CALNAME:iCagenda
X-WR-CALDESC:Event Management Extension for Joomla!
X-WR-RELCALID:3E26604A-50F4-4449-8B3E-E4F4932D05B5
X-WR-TIMEZONE:Europe/Zurich
BEGIN:VTIMEZONE
TZID:Europe/Zurich
TZUNTIL:20270328T010000Z
BEGIN:STANDARD
TZNAME:CET
DTSTART:20241027T030000
TZOFFSETFROM:+0200
TZOFFSETTO:+0100
RDATE:20251026T030000
RDATE:20261025T030000
END:STANDARD
BEGIN:DAYLIGHT
TZNAME:CEST
DTSTART:20250330T020000
TZOFFSETFROM:+0100
TZOFFSETTO:+0200
RDATE:20260329T020000
END:DAYLIGHT
END:VTIMEZONE
BEGIN:VEVENT
UID:62326161-3538-4737-b536-366363613261
DTSTAMP:20260421T184917Z
CATEGORIES:RKK Therwil
CLASS:PUBLIC
DESCRIPTION;ALTREP="CID:<FFFF__=0ABBE548DFE235B58f9e8a93d@coffeebean.com>":
 Wanderung vom Freitag\, den 22. August. Wir nehmen das Tram 10 ab Therwil 
 Zentrum 08.20h Richtung Basel SBB. 09.01h ab Basel Gleis 16 nach Sissach u
 nd weiter mit Bähnli bis Haltestelle Sommerau. Die Wanderung führt durch e
 in schattiges Tal vorbei am Giessenfall Richtung Rünenberg. Wanderzeit ca.
  2 Stunden. Im Restaurant Löwen in Rünenberg werden wir zum Mittagessen er
 wartet. &nbsp\;Rückfahrt mit Bus 104 nach Gelterkinden\, umsteigen nach Ba
 sel SBB und Therwil. U-Abo oder TNW-Tageskarte. Wanderstöcke empfohlen. Ve
 rsicherung ist Sache der Teilnehmenden. Wanderleitung Jacqueline Rohrer un
 d Ines Markovsky\, 079 649 30 85.
DTSTART:20250822T062000Z
DTEND:20250822T150000Z
GEO:00;0
LOCATION:
ORGANIZER:
SEQUENCE:1
SUMMARY:Wandergruppe «fit und zwäg»
TRANSP:OPAQUE
URL:https://rkk-therwil.ch/aktuelles/archiv/371-wandergruppe-fit-und-zwaeg-
 19?layout=vcal
END:VEVENT
END:VCALENDAR
