BEGIN:VCALENDAR
VERSION:2.0
PRODID:-//RKK Therwil//NONSGML kigkonsult.se iCalcreator 2.41.92//
CALSCALE:GREGORIAN
METHOD:PUBLISH
UID:64316364-3339-4162-b764-633733376430
X-WR-CALNAME:iCagenda
X-WR-CALDESC:Event Management Extension for Joomla!
X-WR-RELCALID:3E26604A-50F4-4449-8B3E-E4F4932D05B5
X-WR-TIMEZONE:Europe/Zurich
BEGIN:VTIMEZONE
TZID:Europe/Zurich
TZUNTIL:20270328T010000Z
BEGIN:STANDARD
TZNAME:CET
DTSTART:20241027T030000
TZOFFSETFROM:+0200
TZOFFSETTO:+0100
RDATE:20251026T030000
RDATE:20261025T030000
END:STANDARD
BEGIN:DAYLIGHT
TZNAME:CEST
DTSTART:20250330T020000
TZOFFSETFROM:+0100
TZOFFSETTO:+0200
RDATE:20260329T020000
END:DAYLIGHT
END:VTIMEZONE
BEGIN:VEVENT
UID:64613939-3439-4436-a365-653637633164
DTSTAMP:20260421T184904Z
CATEGORIES:RKK Therwil
CLASS:PUBLIC
DESCRIPTION;ALTREP="CID:<FFFF__=0ABBE548DFE235B58f9e8a93d@coffeebean.com>":
 Die Führung am Donnerstag\, den 21. August gibt Einblicke in den Bau und d
 ie Kirchengeschichte\, unter anderem besichtigen wir die Ostkrypta. Der Au
 sflug kostet CHF 20.-. Treffpunkt ist um 13.40 bei der Tramhaltestelle The
 rwil Zentrum\, bitte Billette vorab lösen\, Anmeldungen bis Freitag\, 15. 
 August\, 061 721 11 66 oder sekretariat@rkk-therwil.ch\nNiggi Kümmerli und
  Martin Brodbeck
DTSTART:20250821T114000Z
DTEND:20250821T150000Z
GEO:00;0
LOCATION:
ORGANIZER:
SEQUENCE:1
SUMMARY:Lust auf eine Münsterführung?
TRANSP:OPAQUE
URL:https://rkk-therwil.ch/aktuelles/archiv/370-lust-auf-eine-muensterfuehr
 ung?layout=vcal
END:VEVENT
END:VCALENDAR
