BEGIN:VCALENDAR
VERSION:2.0
PRODID:-//RKK Therwil//NONSGML kigkonsult.se iCalcreator 2.41.92//
CALSCALE:GREGORIAN
METHOD:PUBLISH
UID:35616231-3562-4130-a639-363165373132
X-WR-CALNAME:iCagenda
X-WR-CALDESC:Event Management Extension for Joomla!
X-WR-RELCALID:3E26604A-50F4-4449-8B3E-E4F4932D05B5
X-WR-TIMEZONE:Europe/Zurich
BEGIN:VTIMEZONE
TZID:Europe/Zurich
TZUNTIL:20251026T010000Z
BEGIN:STANDARD
TZNAME:CET
DTSTART:20221030T030000
TZOFFSETFROM:+0200
TZOFFSETTO:+0100
RDATE:20231029T030000
RDATE:20241027T030000
END:STANDARD
BEGIN:DAYLIGHT
TZNAME:CEST
DTSTART:20230326T020000
TZOFFSETFROM:+0100
TZOFFSETTO:+0200
RDATE:20240331T020000
RDATE:20250330T020000
END:DAYLIGHT
END:VTIMEZONE
BEGIN:VEVENT
UID:38333261-6132-4031-b562-313936383965
DTSTAMP:20260422T032638Z
CATEGORIES:RKK Therwil
CLASS:PUBLIC
DESCRIPTION;ALTREP="CID:<FFFF__=0ABBE548DFE235B58f9e8a93d@coffeebean.com>":
 Yulia Kopylova\, Violine\nCarlos Graullera Gimenez\, Violine\nHarold Hirtz
 \, Viola\nDavid Delacroix\, Violoncello\nSonntag\, 22. Oktober 20 Uhr\nKat
 h. Kirche St. Stephan Therwil\nFranz Schubert (1797–1828):\nQuartettsatz c
 -Moll\, D 703 (1820)\nLudwig van Beethoven (1770-1827): Streichquartett F-
 Dur Nr. 7\, op. 59/1 (1806)\nWaren dem jugendlichen Franz Schubert kleiner
 e Sinfonien und Streichquartette leicht aus der Feder geflossen\, steigert
 e sich sein Anspruch in den beiden Gattungen ab 1820 erheblich. Drei Sinfo
 nien brachte er nicht mehr zu Ende und auch sein packendes c-Moll-Streichq
 uartett («Quartettsatz») blieb unvollendet.\nDas Streichquartett Nr. 7 F-D
 ur op. 59/1 von Ludwig van Beethoven entstand im Jahr 1806 als erstes der 
 drei Quartette op. 59\, der sogenannten «Rasumowsky-Quartette»\, benannt n
 ach ihrem Auftraggeber Andrei Kirillowitsch Rasumowski\, einem Diplomaten\
 , der ein wichtiger Beethoven-Förderer war.\nwww.konzerte-therwil.ch
DTSTART:20231022T180000Z
DTEND:20231022T200000Z
GEO:00;0
LOCATION:
ORGANIZER:
SEQUENCE:1
SUMMARY:Streichquartett Arc-en-ciel - Mitglieder des Sinfonieorchesters Bas
 el
TRANSP:OPAQUE
URL:https://rkk-therwil.ch/aktuelles/archiv/37-streichquartett-arc-en-ciel-
 mitglieder-des-sinfonieorchesters-basel?layout=vcal
END:VEVENT
END:VCALENDAR
