BEGIN:VCALENDAR
VERSION:2.0
PRODID:-//RKK Therwil//NONSGML kigkonsult.se iCalcreator 2.41.92//
CALSCALE:GREGORIAN
METHOD:PUBLISH
UID:34636132-3435-4138-a635-306163613430
X-WR-CALNAME:iCagenda
X-WR-CALDESC:Event Management Extension for Joomla!
X-WR-RELCALID:3E26604A-50F4-4449-8B3E-E4F4932D05B5
X-WR-TIMEZONE:Europe/Zurich
BEGIN:VTIMEZONE
TZID:Europe/Zurich
TZUNTIL:20270328T010000Z
BEGIN:STANDARD
TZNAME:CET
DTSTART:20241027T030000
TZOFFSETFROM:+0200
TZOFFSETTO:+0100
RDATE:20251026T030000
RDATE:20261025T030000
END:STANDARD
BEGIN:DAYLIGHT
TZNAME:CEST
DTSTART:20250330T020000
TZOFFSETFROM:+0100
TZOFFSETTO:+0200
RDATE:20260329T020000
END:DAYLIGHT
END:VTIMEZONE
BEGIN:VEVENT
UID:33616438-3239-4366-b033-363836656330
DTSTAMP:20260421T185005Z
CATEGORIES:RKK Therwil
CLASS:PUBLIC
DESCRIPTION;ALTREP="CID:<FFFF__=0ABBE548DFE235B58f9e8a93d@coffeebean.com>":
 Patrick Blatter\, Mediensprecher der Polizei Baselland\, wird Ihnen prakti
 sche Tipps geben\, wie Sie sich unter anderem vor Telefon- und Trickbetrüg
 ern schützen\, Gefahren erkennen\, diese verhindern und darauf reagieren k
 önnen. Ich freue mich auf Sie am Dienstag\, 12. August um 14.30 Uhr im Pfa
 rreiheim St. Stephan\, Hinterkirchweg 31 Therwil. Anschliessend gibt es Ka
 ffee oder Tee und ein feines Zvieri. Falls Sie einen Fahrdienst benötigen\
 , melden Sie sich gerne bei\nCorinne André und Team
DTSTART:20250812T123000Z
DTEND:20250812T150000Z
GEO:00;0
LOCATION:
ORGANIZER:
SEQUENCE:1
SUMMARY:„Sicherheit im Alter und im Alltag“ – Vortrag bei grau&schlau
TRANSP:OPAQUE
URL:https://rkk-therwil.ch/aktuelles/archiv/368-sicherheit-im-alter-und-im-
 alltag-vortrag-bei-grau-schlau?layout=vcal
END:VEVENT
END:VCALENDAR
