BEGIN:VCALENDAR
VERSION:2.0
PRODID:-//RKK Therwil//NONSGML kigkonsult.se iCalcreator 2.41.92//
CALSCALE:GREGORIAN
METHOD:PUBLISH
UID:32623637-3834-4764-b663-643939366236
X-WR-CALNAME:iCagenda
X-WR-CALDESC:Event Management Extension for Joomla!
X-WR-RELCALID:3E26604A-50F4-4449-8B3E-E4F4932D05B5
X-WR-TIMEZONE:Europe/Zurich
BEGIN:VTIMEZONE
TZID:Europe/Zurich
TZUNTIL:20270328T010000Z
BEGIN:STANDARD
TZNAME:CET
DTSTART:20241027T030000
TZOFFSETFROM:+0200
TZOFFSETTO:+0100
RDATE:20251026T030000
RDATE:20261025T030000
END:STANDARD
BEGIN:DAYLIGHT
TZNAME:CEST
DTSTART:20250330T020000
TZOFFSETFROM:+0100
TZOFFSETTO:+0200
RDATE:20260329T020000
END:DAYLIGHT
END:VTIMEZONE
BEGIN:VEVENT
UID:39656438-6662-4331-b865-393464313734
DTSTAMP:20260421T184903Z
CATEGORIES:RKK Therwil
CLASS:PUBLIC
DESCRIPTION;ALTREP="CID:<FFFF__=0ABBE548DFE235B58f9e8a93d@coffeebean.com>":
 Ostern 2026 ist noch weit weg\, doch Mitte Mai wurde vom Osterkerzen-Team 
 ein faszinierendes Motiv für die Osterkerze 2026 bestimmt. Nach den Sommer
 ferien wird die Idee umgesetzt und die grossen Oster- und kleinen Hauskerz
 en gestaltet. Dazu trifft sich eine Gruppe aus kreativen Frauen je-weils a
 m Montagabend\, so am 11.\, 18. und 25. August sowie am 1. und 8. Septembe
 r jeweils ab 19 Uhr im Sit-zungszimmer im Pfarreiheim in Ther-wil. Wer jet
 zt neugierig geworden ist und Lust hat mitzumachen\, ist herzlich willkomm
 en! Natürlich sind auch kreative Herren sehr willkommen\, sich der Gruppe 
 anzuschliessen.\nElke Kreiselmeyer und das Osterkerzen-Team
DTSTART:20250811T170000Z
DTEND:20250811T190000Z
GEO:00;0
LOCATION:
ORGANIZER:
SEQUENCE:1
SUMMARY:Osterkerze 2026
TRANSP:OPAQUE
URL:https://rkk-therwil.ch/aktuelles/archiv/367-osterkerze-2026/2025-08-11-
 19-00?layout=vcal
END:VEVENT
END:VCALENDAR
