BEGIN:VCALENDAR
VERSION:2.0
PRODID:-//RKK Therwil//NONSGML kigkonsult.se iCalcreator 2.41.92//
CALSCALE:GREGORIAN
METHOD:PUBLISH
UID:39356435-6332-4064-b761-376166613136
X-WR-CALNAME:iCagenda
X-WR-CALDESC:Event Management Extension for Joomla!
X-WR-RELCALID:3E26604A-50F4-4449-8B3E-E4F4932D05B5
X-WR-TIMEZONE:Europe/Zurich
BEGIN:VTIMEZONE
TZID:Europe/Zurich
TZUNTIL:20270328T010000Z
BEGIN:STANDARD
TZNAME:CET
DTSTART:20241027T030000
TZOFFSETFROM:+0200
TZOFFSETTO:+0100
RDATE:20251026T030000
RDATE:20261025T030000
END:STANDARD
BEGIN:DAYLIGHT
TZNAME:CEST
DTSTART:20250330T020000
TZOFFSETFROM:+0100
TZOFFSETTO:+0200
RDATE:20260329T020000
END:DAYLIGHT
END:VTIMEZONE
BEGIN:VEVENT
UID:66323335-3839-4062-a436-653930353064
DTSTAMP:20260421T184916Z
CATEGORIES:RKK Therwil
CLASS:PUBLIC
DESCRIPTION;ALTREP="CID:<FFFF__=0ABBE548DFE235B58f9e8a93d@coffeebean.com>":
 Duftende Kräuter\, blühendes Leben\, Segen Gottes - bringen Sie ihre Küche
 n-\, Tee- und Heilkräuter zum Gottesdienst mit\, um sie vor den Altar zu l
 egen und am Ende gesegnet wieder mitheimzunehmen! Sie können die Kräuter l
 ose in einem Körbchen mitbringen oder zu einem Sträusschen gebunden. Wir f
 eiern diesen Gottesdienst zum Hochfest von Maria Himmelfahrt am Sonntag\, 
 den 17. August um 10 Uhr.\nRoger Schmidlin
DTSTART:20250817T080000Z
DTEND:20250817T091500Z
GEO:00;0
LOCATION:
ORGANIZER:
SEQUENCE:1
SUMMARY:Gottesdienst in der Kirche St. Stephan mit Eucharistiefeier\, Maria
  Himmelfahrt mit Kräutersegnung
TRANSP:OPAQUE
URL:https://rkk-therwil.ch/aktuelles/archiv/362-gottesdienst-in-der-kirche-
 st-stephan-mit-eucharistiefeier-maria-himmelfahrt-mit-kraeutersegnung?layo
 ut=vcal
END:VEVENT
END:VCALENDAR
