BEGIN:VCALENDAR
VERSION:2.0
PRODID:-//RKK Therwil//NONSGML kigkonsult.se iCalcreator 2.41.92//
CALSCALE:GREGORIAN
METHOD:PUBLISH
UID:38623365-3162-4165-b230-623632396666
X-WR-CALNAME:iCagenda
X-WR-CALDESC:Event Management Extension for Joomla!
X-WR-RELCALID:3E26604A-50F4-4449-8B3E-E4F4932D05B5
X-WR-TIMEZONE:Europe/Zurich
BEGIN:VTIMEZONE
TZID:Europe/Zurich
TZUNTIL:20270328T010000Z
BEGIN:STANDARD
TZNAME:CET
DTSTART:20241027T030000
TZOFFSETFROM:+0200
TZOFFSETTO:+0100
RDATE:20251026T030000
RDATE:20261025T030000
END:STANDARD
BEGIN:DAYLIGHT
TZNAME:CEST
DTSTART:20250330T020000
TZOFFSETFROM:+0100
TZOFFSETTO:+0200
RDATE:20260329T020000
END:DAYLIGHT
END:VTIMEZONE
BEGIN:VEVENT
UID:39613437-6636-4061-b236-336262666538
DTSTAMP:20260421T184730Z
CATEGORIES:RKK Therwil
CLASS:PUBLIC
DESCRIPTION;ALTREP="CID:<FFFF__=0ABBE548DFE235B58f9e8a93d@coffeebean.com>":
 Kommen Sie am 12. August von 10 bis 11.30 Uhr vorbei im BeZ in Biel-Benken
  zum Philo-Kaffi. Wir tauschen uns zum Thema «Wasser» aus. Wasser ist nich
 t nur eine chemische Verbindung\, sondern die Grundlage allen Lebens auf d
 ieser Erde. Wir tauschen uns aus über unsere Erfahrungen zu diesem Thema. 
 Ich freue mich darauf! Es gibt Kaffee oder Tee und Gipfeli. Bei Fragen dür
 fen Sie sich gerne an Corinne André wenden. 079 332 23 10
DTSTART:20250812T080000Z
DTEND:20250812T093000Z
GEO:00;0
LOCATION:
ORGANIZER:
SEQUENCE:1
SUMMARY:Philo-Kaffi «Wasser»
TRANSP:OPAQUE
URL:https://rkk-therwil.ch/aktuelles/archiv/361-philo-kaffi-wasser?layout=v
 cal
END:VEVENT
END:VCALENDAR
