BEGIN:VCALENDAR
VERSION:2.0
PRODID:-//RKK Therwil//NONSGML kigkonsult.se iCalcreator 2.41.92//
CALSCALE:GREGORIAN
METHOD:PUBLISH
UID:63363938-6634-4938-b762-626164306437
X-WR-CALNAME:iCagenda
X-WR-CALDESC:Event Management Extension for Joomla!
X-WR-RELCALID:3E26604A-50F4-4449-8B3E-E4F4932D05B5
X-WR-TIMEZONE:Europe/Zurich
BEGIN:VTIMEZONE
TZID:Europe/Zurich
TZUNTIL:20270328T010000Z
BEGIN:STANDARD
TZNAME:CET
DTSTART:20241027T030000
TZOFFSETFROM:+0200
TZOFFSETTO:+0100
RDATE:20251026T030000
RDATE:20261025T030000
END:STANDARD
BEGIN:DAYLIGHT
TZNAME:CEST
DTSTART:20250330T020000
TZOFFSETFROM:+0100
TZOFFSETTO:+0200
RDATE:20260329T020000
END:DAYLIGHT
END:VTIMEZONE
BEGIN:VEVENT
UID:31616531-6637-4034-a362-653435366336
DTSTAMP:20260421T185004Z
CATEGORIES:RKK Therwil
CLASS:PUBLIC
DESCRIPTION;ALTREP="CID:<FFFF__=0ABBE548DFE235B58f9e8a93d@coffeebean.com>":
 Wenn kleine Vögel das Nest verlassen\, werden sie «flügge». Wenn Menschenk
 inder grösser und selbständiger werden\, sprechen wir ebenfalls davon\, da
 ss sie «flügge» werden. Wenn ein neues Schuljahr beginnt und wenn Kinder z
 um 1. Mal in den Kindergarten oder in die Schule gehen\, wird so spürbar\,
  wie «gross» die Kinder geworden sind. Sie werden «flügge». Ein neuer Lebe
 nsabschnitt beginnt.\nDer erste Schultag ist aufregend\, nicht nur für die
  Kinder\, sondern auch für Eltern. Deshalb feiern wir jedes Jahr am letzte
 n Sonntag der Sommerferien einen Schulanfangsgottesdienst\, bei dem Kinder
  und ihre Eltern sich für den ersten Schultag stärken und segnen lassen kö
 nnen.\nAlle Kinder\, vom Spielgruppenalter bis zum Schulalter\, sind mit i
 hren Familien am 10. August um 11.15 Uhr zum ökumenischen Gottesdienst in 
 der katholischen Kirche Therwil herzlich willkommen. Der Gottesdienst wird
  vom ökumenischen Kinderchor ÖKIKO musikalisch mitgestaltet.\nSchulsäcke u
 nd Kindsgitaschen dürfen gerne mitgebracht werden.\nLea Meier und das Vorb
 ereitungsteam
DTSTART:20250810T091500Z
DTEND:20250810T101500Z
GEO:00;0
LOCATION:
ORGANIZER:
SEQUENCE:1
SUMMARY:Was fliegt denn da? - Ökumenischer Kindergottesdienst zum Schulanfa
 ng
TRANSP:OPAQUE
URL:https://rkk-therwil.ch/aktuelles/archiv/360-was-fliegt-denn-da-oekumeni
 scher-kindergottesdienst-zum-schulanfang?layout=vcal
END:VEVENT
END:VCALENDAR
