BEGIN:VCALENDAR
VERSION:2.0
PRODID:-//RKK Therwil//NONSGML kigkonsult.se iCalcreator 2.41.92//
CALSCALE:GREGORIAN
METHOD:PUBLISH
UID:34613237-6432-4363-b766-616130643537
X-WR-CALNAME:iCagenda
X-WR-CALDESC:Event Management Extension for Joomla!
X-WR-RELCALID:3E26604A-50F4-4449-8B3E-E4F4932D05B5
X-WR-TIMEZONE:Europe/Zurich
BEGIN:VTIMEZONE
TZID:Europe/Zurich
TZUNTIL:20251026T010000Z
BEGIN:STANDARD
TZNAME:CET
DTSTART:20231029T030000
TZOFFSETFROM:+0200
TZOFFSETTO:+0100
RDATE:20241027T030000
END:STANDARD
BEGIN:DAYLIGHT
TZNAME:CEST
DTSTART:20230326T020000
TZOFFSETFROM:+0100
TZOFFSETTO:+0200
RDATE:20240331T020000
RDATE:20250330T020000
END:DAYLIGHT
END:VTIMEZONE
BEGIN:VEVENT
UID:35306665-3862-4133-b538-353137636533
DTSTAMP:20260421T235737Z
CATEGORIES:RKK Therwil
CLASS:PUBLIC
DESCRIPTION;ALTREP="CID:<FFFF__=0ABBE548DFE235B58f9e8a93d@coffeebean.com>":
 grau&amp\;schlau mit Altbekanntem und ganz Neuem am Donnerstag\, 2. Novemb
 er um 14.30 Uhr im Pfarreiheim: Stephan Wottreng-Kehl und sein Schwyzerörg
 eli müssen wohl nicht besonders vorgestellt werden\, sie sind hier bestens
  bekannt. Er lädt ein zum Zuhören und Mitsingen\, und damit werden wir uns
 ere neue Sozialpädagogin\, Corinne Ruch\, gleich herzlich begrüssen können
 ! Im Anschluss gibt es wie immer ein feines Zvieri und Zeit für angeregten
  Austausch.
DTSTART:20231102T133000Z
DTEND:20231102T160000Z
GEO:00;0
LOCATION:
ORGANIZER:
SEQUENCE:1
SUMMARY:grau & schlau: Singen mit Stephan Wottreng-Kehl und seinem Schwyzer
 örgeli
TRANSP:OPAQUE
URL:https://rkk-therwil.ch/aktuelles/archiv/36-grau-schlau-singen-mit-steph
 an-wottreng-kehl-und-seinem-schwyzeroergeli?layout=vcal
END:VEVENT
END:VCALENDAR
