BEGIN:VCALENDAR
VERSION:2.0
PRODID:-//RKK Therwil//NONSGML kigkonsult.se iCalcreator 2.41.92//
CALSCALE:GREGORIAN
METHOD:PUBLISH
UID:66376231-6632-4861-b764-636637646331
X-WR-CALNAME:iCagenda
X-WR-CALDESC:Event Management Extension for Joomla!
X-WR-RELCALID:3E26604A-50F4-4449-8B3E-E4F4932D05B5
X-WR-TIMEZONE:Europe/Zurich
BEGIN:VTIMEZONE
TZID:Europe/Zurich
TZUNTIL:20270328T010000Z
BEGIN:STANDARD
TZNAME:CET
DTSTART:20241027T030000
TZOFFSETFROM:+0200
TZOFFSETTO:+0100
RDATE:20251026T030000
RDATE:20261025T030000
END:STANDARD
BEGIN:DAYLIGHT
TZNAME:CEST
DTSTART:20250330T020000
TZOFFSETFROM:+0100
TZOFFSETTO:+0200
RDATE:20260329T020000
END:DAYLIGHT
END:VTIMEZONE
BEGIN:VEVENT
UID:64343933-3738-4336-b863-323737376238
DTSTAMP:20260421T184915Z
CATEGORIES:RKK Therwil
CLASS:PUBLIC
DESCRIPTION:
DTSTART:20250803T080000Z
DTEND:20250803T090000Z
GEO:00;0
LOCATION:
ORGANIZER:
SEQUENCE:1
SUMMARY:Gottesdienst in der Kirche St. Stephan mit Kommunionfeier
TRANSP:OPAQUE
URL:https://rkk-therwil.ch/aktuelles/archiv/357-gottesdienst-in-der-kirche-
 st-stephan-mit-kommunionfeier-19/2025-08-03-10-00?layout=vcal
END:VEVENT
END:VCALENDAR
