BEGIN:VCALENDAR
VERSION:2.0
PRODID:-//RKK Therwil//NONSGML kigkonsult.se iCalcreator 2.41.92//
CALSCALE:GREGORIAN
METHOD:PUBLISH
UID:38316662-3866-4136-b030-613635363065
X-WR-CALNAME:iCagenda
X-WR-CALDESC:Event Management Extension for Joomla!
X-WR-RELCALID:3E26604A-50F4-4449-8B3E-E4F4932D05B5
X-WR-TIMEZONE:Europe/Zurich
BEGIN:VTIMEZONE
TZID:Europe/Zurich
TZUNTIL:20251026T010000Z
BEGIN:STANDARD
TZNAME:CET
DTSTART:20231029T030000
TZOFFSETFROM:+0200
TZOFFSETTO:+0100
RDATE:20241027T030000
END:STANDARD
BEGIN:DAYLIGHT
TZNAME:CEST
DTSTART:20230326T020000
TZOFFSETFROM:+0100
TZOFFSETTO:+0200
RDATE:20240331T020000
RDATE:20250330T020000
END:DAYLIGHT
END:VTIMEZONE
BEGIN:VEVENT
UID:32323464-3462-4565-a662-346362653137
DTSTAMP:20260421T221628Z
CATEGORIES:RKK Therwil
CLASS:PUBLIC
DESCRIPTION;ALTREP="CID:<FFFF__=0ABBE548DFE235B58f9e8a93d@coffeebean.com>":
 am 10. November um 17:00 Uhr in der kath. Kirche Therwil\nDie Geschichte\,
  wie der römische Soldat Martin einem frierenden Mann hilft\, fasziniert M
 enschen heute immer noch. Bis heute wird die Geschichte der Begegnung zwis
 chen den beiden erzählt und gefeiert. Auch wir feiern in Therwil das Marti
 nsfest und laden Familien mit kleinen Kindern ganz herzlich dazu ein. Wir 
 freuen uns\, dass die Kinder des ökumenischen Kinderchors Ökiko unter der 
 Leitung von Lara Bevilacqua uns begleiten.\nWir beginnen um 17 Uhr in der 
 katholischen Kirche\, hören die Geschichte\nvon Martin und laufen anschlie
 ssend mit leuchtenden Laternen ein kurzes Stück Weg zur reformierten Kirch
 e.\nWer hat und mag\, kann sein eigenes Räbeliechtli oder Laterne mitbring
 en.\nFür die Vorbereitungsgruppe Lea Meier &amp\; Jutta Achhammer
DTSTART:20231110T160000Z
DTEND:20231110T170000Z
GEO:00;0
LOCATION:
ORGANIZER:
SEQUENCE:1
SUMMARY:Ökumenischer Kindergottesdienst – auf Augenhöhe
TRANSP:OPAQUE
URL:https://rkk-therwil.ch/aktuelles/archiv/35-oekumenischer-kindergottesdi
 enst-auf-augenhoehe?layout=vcal
END:VEVENT
END:VCALENDAR
