BEGIN:VCALENDAR
VERSION:2.0
PRODID:-//RKK Therwil//NONSGML kigkonsult.se iCalcreator 2.41.92//
CALSCALE:GREGORIAN
METHOD:PUBLISH
UID:30663863-3130-4463-b536-326131376338
X-WR-CALNAME:iCagenda
X-WR-CALDESC:Event Management Extension for Joomla!
X-WR-RELCALID:3E26604A-50F4-4449-8B3E-E4F4932D05B5
X-WR-TIMEZONE:Europe/Zurich
BEGIN:VTIMEZONE
TZID:Europe/Zurich
TZUNTIL:20271031T010000Z
BEGIN:STANDARD
TZNAME:CET
DTSTART:20241027T030000
TZOFFSETFROM:+0200
TZOFFSETTO:+0100
RDATE:20251026T030000
RDATE:20261025T030000
END:STANDARD
BEGIN:DAYLIGHT
TZNAME:CEST
DTSTART:20250330T020000
TZOFFSETFROM:+0100
TZOFFSETTO:+0200
RDATE:20260329T020000
RDATE:20270328T020000
END:DAYLIGHT
END:VTIMEZONE
BEGIN:VEVENT
UID:34616336-3664-4861-b538-616238393136
DTSTAMP:20260421T221626Z
CATEGORIES:RKK Therwil
CLASS:PUBLIC
DESCRIPTION;ALTREP="CID:<FFFF__=0ABBE548DFE235B58f9e8a93d@coffeebean.com>":
 Über den Fluss führt eine Brücke. In der Geschichte\, die wir hören\, war 
 es nicht immer so: Auf jeder Seite lebte eine Bauernfamilie – die einander
  nicht ausstehen konnten: Sie waren je auf den anderen neidisch. Streit en
 tsteht manchmal aus Neid oder Vorurteilen. Darum bereiten wir im Religions
 unterricht zusammen mit den 4.-Klässler*innen einen Gottesdienst vor\, in 
 dem es genau um dieses Thema geht: wie Neid uns aufeinander wütend ma-chen
  kann – und wie es doch gelingen kann\, auf einander zuzugehen.\nWir feier
 n am Samstag\, 25. Oktober um 17 Uhr in der reformierten Kirche Biel-Benke
 n und am Sonntag\, 26. Oktober um 10 Uhr in der katholischen Kirche Therwi
 l.&nbsp\;Zu diesem Gottesdienst nach katholischer Liturgie mit Kommunionfe
 ier sind alle willkommen!\nDas ökumenische Vorbereitungsteam:\nPhilippe Mo
 osbrugger\, Luca Policante\, Tabea Schluchter (Gottesdienst in Biel-Benken
 )\; Barbara Ballmer\, Galia Kondova\, Niggi Kümmerli\, Lea Meier\, Philipp
 e Moosbrugger\, Walli Schaad (Gottesdienst in Therwil)\;
DTSTART:20251025T150000Z
DTEND:20251025T160000Z
GEO:00;0
LOCATION:
ORGANIZER:
SEQUENCE:1
SUMMARY:«Vo mir zu Dir» - Versöhnungs-Gottesdienst mit 4. Klassen in Biel-B
 enken und Therwil
TRANSP:OPAQUE
URL:https://rkk-therwil.ch/aktuelles/archiv/345-oekum-schuelergottesdienst-
 versoehnung-der-4-klassen?layout=vcal
END:VEVENT
END:VCALENDAR
