BEGIN:VCALENDAR
VERSION:2.0
PRODID:-//RKK Therwil//NONSGML kigkonsult.se iCalcreator 2.41.92//
CALSCALE:GREGORIAN
METHOD:PUBLISH
UID:63376634-3534-4433-a433-353862396233
X-WR-CALNAME:iCagenda
X-WR-CALDESC:Event Management Extension for Joomla!
X-WR-RELCALID:3E26604A-50F4-4449-8B3E-E4F4932D05B5
X-WR-TIMEZONE:Europe/Zurich
BEGIN:VTIMEZONE
TZID:Europe/Zurich
TZUNTIL:20270328T010000Z
BEGIN:STANDARD
TZNAME:CET
DTSTART:20241027T030000
TZOFFSETFROM:+0200
TZOFFSETTO:+0100
RDATE:20251026T030000
RDATE:20261025T030000
END:STANDARD
BEGIN:DAYLIGHT
TZNAME:CEST
DTSTART:20250330T020000
TZOFFSETFROM:+0100
TZOFFSETTO:+0200
RDATE:20260329T020000
END:DAYLIGHT
END:VTIMEZONE
BEGIN:VEVENT
UID:62323038-3133-4234-a163-656137343163
DTSTAMP:20260421T184730Z
CATEGORIES:RKK Therwil
CLASS:PUBLIC
DESCRIPTION;ALTREP="CID:<FFFF__=0ABBE548DFE235B58f9e8a93d@coffeebean.com>":
 Am Samstag\, den 16. August um 17 Uhr feiern wir einen Gottesdienst im Fre
 ien beim Schlössli in Biel-Benken. Musikalisch wird uns der Kirchenchor be
 gleiten. Im Anschluss wird grilliert: Bratwurst\, Brot\, Senf und Getränke
  werden offeriert. Spenden für das Kuchenbuffet sind sehr erwünscht. Wir f
 reuen uns heute schon auf einen hoffentlich schönen Sommerabend und laden 
 die Therwiler Am Samstag\, den 16. August um 17 Uhr feiern wir einen Gotte
 sdienst im Freien beim Schlössli in Biel-Benken. Musikalisch wird uns der 
 Kirchenchor begleiten. Im Anschluss wird grilliert: Bratwurst\, Brot\, Sen
 f und Getränke werden offeriert. Spenden für das Kuchenbuffet sind sehr er
 wünscht. Wir freuen uns heute schon auf einen hoffentlich schönen Sommerab
 end und laden die Therwiler&nbsp\;Pfarreiangehörigen herzlich zum Besuch d
 es Nachbardorfs ein. Bei schlechtem Wetter feiern wir im Schlössli.\nPhili
 ppe Moosbrugger
DTSTART:20250816T150000Z
DTEND:20250816T180000Z
GEO:00;0
LOCATION:
ORGANIZER:
SEQUENCE:1
SUMMARY:Schlössli-Picknick
TRANSP:OPAQUE
URL:https://rkk-therwil.ch/aktuelles/archiv/343-schloessli-picknick-2?layou
 t=vcal
END:VEVENT
END:VCALENDAR
