BEGIN:VCALENDAR
VERSION:2.0
PRODID:-//RKK Therwil//NONSGML kigkonsult.se iCalcreator 2.41.92//
CALSCALE:GREGORIAN
METHOD:PUBLISH
UID:33353134-3838-4837-b663-653234643533
X-WR-CALNAME:iCagenda
X-WR-CALDESC:Event Management Extension for Joomla!
X-WR-RELCALID:3E26604A-50F4-4449-8B3E-E4F4932D05B5
X-WR-TIMEZONE:Europe/Zurich
BEGIN:VTIMEZONE
TZID:Europe/Zurich
TZUNTIL:20270328T010000Z
BEGIN:STANDARD
TZNAME:CET
DTSTART:20241027T030000
TZOFFSETFROM:+0200
TZOFFSETTO:+0100
RDATE:20251026T030000
RDATE:20261025T030000
END:STANDARD
BEGIN:DAYLIGHT
TZNAME:CEST
DTSTART:20250330T020000
TZOFFSETFROM:+0100
TZOFFSETTO:+0200
RDATE:20260329T020000
END:DAYLIGHT
END:VTIMEZONE
BEGIN:VEVENT
UID:38623636-3534-4163-b965-303038656563
DTSTAMP:20260421T221703Z
CATEGORIES:RKK Therwil
CLASS:PUBLIC
DESCRIPTION;ALTREP="CID:<FFFF__=0ABBE548DFE235B58f9e8a93d@coffeebean.com>":
 Bischof Felix Gmür lädt alle Paare des Bistums Basel\, die 2025 ihren 50. 
 Hochzeitstag feiern\, zu einem Festgottesdienst ein. Dieser findet am 6. S
 eptember um 15 Uhr in der Kathedrale St. Urs und Viktor in Solothurn statt
 . Im Anschluss sind alle Jubelpaare und ihre Begleitpersonen zu einem Imbi
 ss eingeladen. Anmeldung im Pfarreisekretariat bitte bis zum 18. August.\n
 Bischöfliche Kanzlei
DTSTART:20250906T130000Z
DTEND:20250906T141500Z
GEO:00;0
LOCATION:
ORGANIZER:
SEQUENCE:1
SUMMARY:Festgottesdienst zur Goldenen Hochzeit in der Kathedrale St. Urs un
 d Viktor in Solothurn
TRANSP:OPAQUE
URL:https://rkk-therwil.ch/aktuelles/archiv/338-festgottesdienst-zur-golden
 en-hochzeit-in-der-kathedrale-st-urs-und-viktor-in-solothurn?layout=vcal
END:VEVENT
END:VCALENDAR
