BEGIN:VCALENDAR
VERSION:2.0
PRODID:-//RKK Therwil//NONSGML kigkonsult.se iCalcreator 2.41.92//
CALSCALE:GREGORIAN
METHOD:PUBLISH
UID:34306335-3166-4630-b530-353933633761
X-WR-CALNAME:iCagenda
X-WR-CALDESC:Event Management Extension for Joomla!
X-WR-RELCALID:3E26604A-50F4-4449-8B3E-E4F4932D05B5
X-WR-TIMEZONE:Europe/Zurich
BEGIN:VTIMEZONE
TZID:Europe/Zurich
TZUNTIL:20251026T010000Z
BEGIN:STANDARD
TZNAME:CET
DTSTART:20221030T030000
TZOFFSETFROM:+0200
TZOFFSETTO:+0100
RDATE:20231029T030000
RDATE:20241027T030000
END:STANDARD
BEGIN:DAYLIGHT
TZNAME:CEST
DTSTART:20230326T020000
TZOFFSETFROM:+0100
TZOFFSETTO:+0200
RDATE:20240331T020000
RDATE:20250330T020000
END:DAYLIGHT
END:VTIMEZONE
BEGIN:VEVENT
UID:34316639-3261-4164-b863-363635366337
DTSTAMP:20260422T072325Z
CATEGORIES:RKK Therwil
CLASS:PUBLIC
DESCRIPTION;ALTREP="CID:<FFFF__=0ABBE548DFE235B58f9e8a93d@coffeebean.com>":
 Manchmal kann uns Menschen einfach nichts zufrieden stellen. Irgendwie feh
 lt immer etwas. Egal ob gross oder klein\, wir wollen immer noch mehr – no
 ch eine Kugel Eis\, ein neues Plüschtier\, ein anderes Shirt … Viele von u
 ns können diese Liste vermutlich ohne Schwierigkeiten ergänzen.\nAber: Was
  braucht es denn\, dass wir sagen können: «Ich habe genug. Ich bin zufried
 en»?\nDie Schülerinnen und Schüler der 4. Primarklassen haben sich im Reli
 gionsunterricht zusammen mit ihren Lehrpersonen mit dem Thema und der Gesc
 hichte «Von einem der immer mehr wollte» auseinandergesetzt und einiges da
 für vorbereitet.\nSie und ihre Familien\, aber auch alle anderen Neugierig
 en sind am Sonntag\, 29. Oktober um 10 Uhr in der katholischen Kirche St. 
 Stephan in Therwil zum ökumenischen Familiengottesdienst zum Thema Versöhn
 ung eingeladen. Der Gottesdienst wird als Agapefeier gestaltet – und ist o
 ffen für Angehörige aller Konfessionen.\nNiggi Kümmerli\, Silvia Sahli\, W
 alli Schaad\, Lea Meier und Jutta Achhammer
DTSTART:20231029T090000Z
DTEND:20231029T101500Z
GEO:00;0
LOCATION:
ORGANIZER:
SEQUENCE:1
SUMMARY:Von einem\, der immer mehr wollte - Ökumenischer Familien-Gottesdie
 nst
TRANSP:OPAQUE
URL:https://rkk-therwil.ch/aktuelles/archiv/33-von-einem-der-immer-mehr-wol
 lte-oekumenischer-familien-gottesdienst?layout=vcal
END:VEVENT
END:VCALENDAR
