BEGIN:VCALENDAR
VERSION:2.0
PRODID:-//RKK Therwil//NONSGML kigkonsult.se iCalcreator 2.41.92//
CALSCALE:GREGORIAN
METHOD:PUBLISH
UID:61613137-6364-4132-a230-666566303733
X-WR-CALNAME:iCagenda
X-WR-CALDESC:Event Management Extension for Joomla!
X-WR-RELCALID:3E26604A-50F4-4449-8B3E-E4F4932D05B5
X-WR-TIMEZONE:Europe/Zurich
BEGIN:VTIMEZONE
TZID:Europe/Zurich
TZUNTIL:20251026T010000Z
BEGIN:STANDARD
TZNAME:CET
DTSTART:20221030T030000
TZOFFSETFROM:+0200
TZOFFSETTO:+0100
RDATE:20231029T030000
RDATE:20241027T030000
END:STANDARD
BEGIN:DAYLIGHT
TZNAME:CEST
DTSTART:20230326T020000
TZOFFSETFROM:+0100
TZOFFSETTO:+0200
RDATE:20240331T020000
RDATE:20250330T020000
END:DAYLIGHT
END:VTIMEZONE
BEGIN:VEVENT
UID:35396466-3263-4439-b935-653565306334
DTSTAMP:20260424T083328Z
CATEGORIES:RKK Therwil
CLASS:PUBLIC
DESCRIPTION;ALTREP="CID:<FFFF__=0ABBE548DFE235B58f9e8a93d@coffeebean.com>":
 Wanderung vom 4.Oktober\nWir nehmen den Bus Nr. 64 ab Therwil Zentrum um 8
 .53 Uhr und fahren über Dornach nach Seewen Herrenmatt. Die Wanderung führ
 t uns am Basler Weiher vorbei\, um den Holzenberg und über den Chleckenber
 g nach Lupsingen. Dort kehren wir ein im Restaurant Rössli. Wanderzeit 2 ½
  Std.&nbsp\; U-Abo oder Einzelbillette.\nWanderleitung: Doris und Franek S
 itek\, 079 303 67 66\n&nbsp\;
DTSTART:20231004T065000Z
DTEND:20231004T130000Z
GEO:00;0
LOCATION:
ORGANIZER:
SEQUENCE:1
SUMMARY:Wandergruppe 'fit und zwäg'
TRANSP:OPAQUE
URL:https://rkk-therwil.ch/aktuelles/archiv/30-wandergruppe-fit-und-zwaeg-3
 ?layout=vcal
END:VEVENT
END:VCALENDAR
