BEGIN:VCALENDAR
VERSION:2.0
PRODID:-//RKK Therwil//NONSGML kigkonsult.se iCalcreator 2.41.92//
CALSCALE:GREGORIAN
METHOD:PUBLISH
UID:62623361-6431-4430-b436-336437633831
X-WR-CALNAME:iCagenda
X-WR-CALDESC:Event Management Extension for Joomla!
X-WR-RELCALID:3E26604A-50F4-4449-8B3E-E4F4932D05B5
X-WR-TIMEZONE:Europe/Zurich
BEGIN:VTIMEZONE
TZID:Europe/Zurich
TZUNTIL:20250330T010000Z
BEGIN:STANDARD
TZNAME:CET
DTSTART:20221030T030000
TZOFFSETFROM:+0200
TZOFFSETTO:+0100
RDATE:20231029T030000
RDATE:20241027T030000
END:STANDARD
BEGIN:DAYLIGHT
TZNAME:CEST
DTSTART:20230326T020000
TZOFFSETFROM:+0100
TZOFFSETTO:+0200
RDATE:20240331T020000
END:DAYLIGHT
END:VTIMEZONE
BEGIN:VEVENT
UID:64363864-6531-4934-b438-396466326335
DTSTAMP:20260422T032652Z
CATEGORIES:RKK Therwil
CLASS:PUBLIC
DESCRIPTION;ALTREP="CID:<FFFF__=0ABBE548DFE235B58f9e8a93d@coffeebean.com>":
 Am Mittwoch\, den 27. September sind alle Kinder\, die dieses Jahr in unse
 rer Pfarrei ihre Erstkommunion gefeiert haben\, um 14 Uhr ins Pfarreiheim 
 in geheimer Mission eingeladen: Wir basteln das Willkommens-Geschenk für d
 ie neuen Kommunionkinder\, die am 1. Adventssonntag ihren Vorbereitungsweg
  beginnen. Das Thema ist und bleibt bis dahin natürlich geheim! Wir freuen
  uns aufs Wiedersehen mit Euch.\nSilvia Sahli und Elke Kreiselmeyer
DTSTART:20230927T120000Z
DTEND:20230927T140000Z
GEO:00;0
LOCATION:
ORGANIZER:
SEQUENCE:1
SUMMARY:Kommunionkinder basteln für Kommunionkinder
TRANSP:OPAQUE
URL:https://rkk-therwil.ch/aktuelles/archiv/29-kommunionkinder-basteln-fuer
 -kommunionkinder?layout=vcal
END:VEVENT
END:VCALENDAR
