BEGIN:VCALENDAR
VERSION:2.0
PRODID:-//RKK Therwil//NONSGML kigkonsult.se iCalcreator 2.41.92//
CALSCALE:GREGORIAN
METHOD:PUBLISH
UID:64336339-6361-4962-a335-356236373364
X-WR-CALNAME:iCagenda
X-WR-CALDESC:Event Management Extension for Joomla!
X-WR-RELCALID:3E26604A-50F4-4449-8B3E-E4F4932D05B5
X-WR-TIMEZONE:Europe/Zurich
BEGIN:VTIMEZONE
TZID:Europe/Zurich
TZUNTIL:20250330T010000Z
BEGIN:STANDARD
TZNAME:CET
DTSTART:20221030T030000
TZOFFSETFROM:+0200
TZOFFSETTO:+0100
RDATE:20231029T030000
RDATE:20241027T030000
END:STANDARD
BEGIN:DAYLIGHT
TZNAME:CEST
DTSTART:20230326T020000
TZOFFSETFROM:+0100
TZOFFSETTO:+0200
RDATE:20240331T020000
END:DAYLIGHT
END:VTIMEZONE
BEGIN:VEVENT
UID:61646264-3635-4331-b638-356630393439
DTSTAMP:20260422T013410Z
CATEGORIES:RKK Therwil
CLASS:PUBLIC
DESCRIPTION;ALTREP="CID:<FFFF__=0ABBE548DFE235B58f9e8a93d@coffeebean.com>":
 Wanderung «Fit und zwäg» \nWir fahren am Dienstag\, den 19. September mit 
 der Linie 10 um 8.12 Uhr von Therwil nach Basel und mit dem Zug um 8.50 Uh
 r nach Mumpf. Auf guten Wegen wandern wir dem Rheinufer entlang\, um dann 
 in Riburg vom Rhein weg zum Rest. Schiff in Möhlin zum Mittagessen zu gela
 ngen. Die Wanderung dauert ca. 2 ¾ Stunden und ist mehr oder weniger eben.
  Nach dem Mittagessen fährt uns der Bus zum Bahnhof Möhlin\, wo wir den Zu
 g nach Basel besteigen.\nUrsula Jäggi-Baumann\, Tel. 061 721 49 37\, \nund
  Jürg Baumann
DTSTART:20230919T061200Z
DTEND:20230919T133000Z
GEO:00;0
LOCATION:
ORGANIZER:
SEQUENCE:1
SUMMARY:Wandergruppe «fit und zwäg»
TRANSP:OPAQUE
URL:https://rkk-therwil.ch/aktuelles/archiv/26-wandergruppe-fit-und-zwaeg-2
 ?layout=vcal
END:VEVENT
END:VCALENDAR
