BEGIN:VCALENDAR
VERSION:2.0
PRODID:-//RKK Therwil//NONSGML kigkonsult.se iCalcreator 2.41.92//
CALSCALE:GREGORIAN
METHOD:PUBLISH
UID:30376139-6232-4661-a365-313263656634
X-WR-CALNAME:iCagenda
X-WR-CALDESC:Event Management Extension for Joomla!
X-WR-RELCALID:3E26604A-50F4-4449-8B3E-E4F4932D05B5
X-WR-TIMEZONE:Europe/Zurich
BEGIN:VTIMEZONE
TZID:Europe/Zurich
TZUNTIL:20250330T010000Z
BEGIN:STANDARD
TZNAME:CET
DTSTART:20221030T030000
TZOFFSETFROM:+0200
TZOFFSETTO:+0100
RDATE:20231029T030000
RDATE:20241027T030000
END:STANDARD
BEGIN:DAYLIGHT
TZNAME:CEST
DTSTART:20230326T020000
TZOFFSETFROM:+0100
TZOFFSETTO:+0200
RDATE:20240331T020000
END:DAYLIGHT
END:VTIMEZONE
BEGIN:VEVENT
UID:35326438-3234-4639-b533-633164393363
DTSTAMP:20260422T165341Z
CATEGORIES:RKK Therwil
CLASS:PUBLIC
DESCRIPTION;ALTREP="CID:<FFFF__=0ABBE548DFE235B58f9e8a93d@coffeebean.com>":
 Am Sonntag\, den 17. September\, kommt Generalvikar Markus Thürig um 17 Uh
 r nach Therwil\, um bei einem besonderen Gottesdienst und einem anschliess
 enden Znacht im Pfarreiheim die Firmlinge näher kennenzulernen.\nMirjam Re
 inprecht und Philippe Moosbrugger
DTSTART:20230917T150000Z
DTEND:20230917T190000Z
GEO:00;0
LOCATION:
ORGANIZER:
SEQUENCE:1
SUMMARY:Treffen der Firmlinge mit dem Firmspender
TRANSP:OPAQUE
URL:https://rkk-therwil.ch/aktuelles/archiv/25-treffen-der-firmlinge-mit-de
 m-firmspender?layout=vcal
END:VEVENT
END:VCALENDAR
