BEGIN:VCALENDAR
VERSION:2.0
PRODID:-//RKK Therwil//NONSGML kigkonsult.se iCalcreator 2.41.92//
CALSCALE:GREGORIAN
METHOD:PUBLISH
UID:63306365-3638-4361-b934-333662373137
X-WR-CALNAME:iCagenda
X-WR-CALDESC:Event Management Extension for Joomla!
X-WR-RELCALID:3E26604A-50F4-4449-8B3E-E4F4932D05B5
X-WR-TIMEZONE:Europe/Zurich
BEGIN:VTIMEZONE
TZID:Europe/Zurich
TZUNTIL:20250330T010000Z
BEGIN:STANDARD
TZNAME:CET
DTSTART:20221030T030000
TZOFFSETFROM:+0200
TZOFFSETTO:+0100
RDATE:20231029T030000
RDATE:20241027T030000
END:STANDARD
BEGIN:DAYLIGHT
TZNAME:CEST
DTSTART:20230326T020000
TZOFFSETFROM:+0100
TZOFFSETTO:+0200
RDATE:20240331T020000
END:DAYLIGHT
END:VTIMEZONE
BEGIN:VEVENT
UID:38356338-3036-4939-a166-323961316336
DTSTAMP:20260422T094332Z
CATEGORIES:RKK Therwil
CLASS:PUBLIC
DESCRIPTION;ALTREP="CID:<FFFF__=0ABBE548DFE235B58f9e8a93d@coffeebean.com>":
 Wer die Darbietung von Hansjörg Hänggi am 799er-Fest gesehen hat\, weiss\,
  was mit «Därwil querbeet» gemeint ist: Texte und Lieder in\, um und über 
 Därwil\, die der ehemalige Lehrer\, der so manch amüsante Geschichte aus d
 em Dorf zu erzählen weiss\, aus seinen Schätzen hervorgeholt hat. Wer es s
 chon gesehen hat\, möchte das Programm vielleicht nochmals erleben. Und we
 r es verpasst hat\, bekommt jetzt die Gelegenheit\, Hansjörg Hänggis Perle
 n kennenzulernen. Das Programm beginnt am Donnerstag\, 7. September um 14.
 30 Uhr im Pfarreiheim\, gefolgt von einem feinen Zvieri. Auf Anmeldung &nb
 sp\;besteht ein Fahrdienst - melden Sie sich dafür bitte rechtzeitig im Se
 kretariat.\nPhilippe Moosbrugger
DTSTART:20230907T123000Z
DTEND:20230907T143000Z
GEO:00;0
LOCATION:Pfarreiheim Hinterkirchweg 33\, Therwil
ORGANIZER:
SEQUENCE:1
SUMMARY:«Därwil querbeet» bei grau&schlau
TRANSP:OPAQUE
URL:https://rkk-therwil.ch/aktuelles/archiv/23-daerwil-querbeet-bei-grau-sc
 hlau?layout=vcal
END:VEVENT
END:VCALENDAR
