BEGIN:VCALENDAR
VERSION:2.0
PRODID:-//RKK Therwil//NONSGML kigkonsult.se iCalcreator 2.41.92//
CALSCALE:GREGORIAN
METHOD:PUBLISH
UID:65363235-6239-4036-a439-366131326463
X-WR-CALNAME:iCagenda
X-WR-CALDESC:Event Management Extension for Joomla!
X-WR-RELCALID:3E26604A-50F4-4449-8B3E-E4F4932D05B5
X-WR-TIMEZONE:Europe/Zurich
BEGIN:VTIMEZONE
TZID:Europe/Zurich
TZUNTIL:20261025T010000Z
BEGIN:STANDARD
TZNAME:CET
DTSTART:20241027T030000
TZOFFSETFROM:+0200
TZOFFSETTO:+0100
RDATE:20251026T030000
END:STANDARD
BEGIN:DAYLIGHT
TZNAME:CEST
DTSTART:20240331T020000
TZOFFSETFROM:+0100
TZOFFSETTO:+0200
RDATE:20250330T020000
RDATE:20260329T020000
END:DAYLIGHT
END:VTIMEZONE
BEGIN:VEVENT
UID:38323233-3162-4535-b561-666637303534
DTSTAMP:20260421T221556Z
CATEGORIES:RKK Therwil
CLASS:PUBLIC
DESCRIPTION;ALTREP="CID:<FFFF__=0ABBE548DFE235B58f9e8a93d@coffeebean.com>":
 Am Freitag\, den 29. November können Sie mit und ohne Kind von 17 bis 19.3
 0 Uhr im katholischen Pfarreiheim unter fachkundiger Anleitung einen eigen
 en Adventskranz binden. Bitte bringen Sie einen Strohring\, 4 Kerzen\, Dek
 oration und – falls vorhanden – eine Rebschere mit. Für CHF 15.- stellen w
 ir ausreichend Tannenzweige\, Draht und Heissleim zur Verfügung. Dieser An
 lass ist für alle\, die Freude an einem kreativen Abend und auf einen selb
 stgemachten Adventskranz haben.\nDas Vorbereitungsteam
DTSTART:20241129T160000Z
DTEND:20241129T183000Z
GEO:00;0
LOCATION:
ORGANIZER:
SEQUENCE:1
SUMMARY:Adventskranzbinden
TRANSP:OPAQUE
URL:https://rkk-therwil.ch/aktuelles/archiv/227-adventskranzbinden-2?layout
 =vcal
END:VEVENT
END:VCALENDAR
