BEGIN:VCALENDAR
VERSION:2.0
PRODID:-//RKK Therwil//NONSGML kigkonsult.se iCalcreator 2.41.92//
CALSCALE:GREGORIAN
METHOD:PUBLISH
UID:30636337-3131-4963-b432-333131666235
X-WR-CALNAME:iCagenda
X-WR-CALDESC:Event Management Extension for Joomla!
X-WR-RELCALID:3E26604A-50F4-4449-8B3E-E4F4932D05B5
X-WR-TIMEZONE:Europe/Zurich
BEGIN:VTIMEZONE
TZID:Europe/Zurich
TZUNTIL:20261025T010000Z
BEGIN:STANDARD
TZNAME:CET
DTSTART:20241027T030000
TZOFFSETFROM:+0200
TZOFFSETTO:+0100
RDATE:20251026T030000
END:STANDARD
BEGIN:DAYLIGHT
TZNAME:CEST
DTSTART:20240331T020000
TZOFFSETFROM:+0100
TZOFFSETTO:+0200
RDATE:20250330T020000
RDATE:20260329T020000
END:DAYLIGHT
END:VTIMEZONE
BEGIN:VEVENT
UID:64326663-3637-4365-b464-346532656363
DTSTAMP:20260421T221557Z
CATEGORIES:RKK Therwil
CLASS:PUBLIC
DESCRIPTION;ALTREP="CID:<FFFF__=0ABBE548DFE235B58f9e8a93d@coffeebean.com>":
 Am 19. November von 10-11.30 Uhr findet wieder das Philokaffi im BeZ in Bi
 el-Benken statt. Unser Thema wird sein: „Nachbarschaft\, wie hat sie uns g
 eprägt?“ Herzliche Einladung um über unsere Nachbarschaft nachzudenken\, w
 as wir alles erlebt haben rund um die Menschen\, die in unserer Nähe wohne
 n oder gewohnt haben. Es sind alle Menschen willkommen\, die sich dafür in
 teressieren für eine Stunde darüber zu sprechen und dabei zu sein. Kaffee\
 , Tee und Gipfel sind auch vorhanden.\nBei Fragen dürfen Sie sich gerne an
  Corinne André unter folgender Telefonnummer wenden: 079 332 23 10.
DTSTART:20241119T090000Z
DTEND:20241119T103000Z
GEO:00;0
LOCATION:
ORGANIZER:
SEQUENCE:1
SUMMARY:Philokaffi: Nachbarschaft
TRANSP:OPAQUE
URL:https://rkk-therwil.ch/aktuelles/archiv/226-philokaffi-nachbarschaft?la
 yout=vcal
END:VEVENT
END:VCALENDAR
