BEGIN:VCALENDAR
VERSION:2.0
PRODID:-//RKK Therwil//NONSGML kigkonsult.se iCalcreator 2.41.92//
CALSCALE:GREGORIAN
METHOD:PUBLISH
UID:32363862-3833-4164-b333-633332616462
X-WR-CALNAME:iCagenda
X-WR-CALDESC:Event Management Extension for Joomla!
X-WR-RELCALID:3E26604A-50F4-4449-8B3E-E4F4932D05B5
X-WR-TIMEZONE:Europe/Zurich
BEGIN:VTIMEZONE
TZID:Europe/Zurich
TZUNTIL:20250330T010000Z
BEGIN:STANDARD
TZNAME:CET
DTSTART:20221030T030000
TZOFFSETFROM:+0200
TZOFFSETTO:+0100
RDATE:20231029T030000
RDATE:20241027T030000
END:STANDARD
BEGIN:DAYLIGHT
TZNAME:CEST
DTSTART:20230326T020000
TZOFFSETFROM:+0100
TZOFFSETTO:+0200
RDATE:20240331T020000
END:DAYLIGHT
END:VTIMEZONE
BEGIN:VEVENT
UID:35363161-6534-4566-b130-393339306366
DTSTAMP:20260422T094334Z
CATEGORIES:RKK Therwil
CLASS:PUBLIC
DESCRIPTION;ALTREP="CID:<FFFF__=0ABBE548DFE235B58f9e8a93d@coffeebean.com>":
 Wenn Ihr Kind in eine 3. Klasse der Primarschule Therwil oder Biel-Benken 
 gekommen und in der Schule als katholisch gemeldet ist\, haben Sie eine Ei
 nladung zum Informationselternabend für die Erstkommunion 2024 erhalten. D
 ieser findet am Dienstag\, den 5. September um 19.30 Uhr im Pfarreiheim in
  Therwil statt. Eltern\, deren Kind Erstkommunion machen möchte\, aber das
  in eine 3. Primarklasse einer anderen Schule geht\, melden sich bitte sel
 bst bei uns im Pfarreisekretariat.\nSilvia Sahli und Elke Kreiselmeyer
DTSTART:20230905T173000Z
DTEND:20230905T193000Z
GEO:00;0
LOCATION:Pfarreiheim Hinterkirchweg 33\, Therwil
ORGANIZER:
SEQUENCE:1
SUMMARY:Elternabend Erstkommunion
TRANSP:OPAQUE
URL:https://rkk-therwil.ch/aktuelles/archiv/22-elternabend-erstkommunion?la
 yout=vcal
END:VEVENT
END:VCALENDAR
