BEGIN:VCALENDAR
VERSION:2.0
PRODID:-//RKK Therwil//NONSGML kigkonsult.se iCalcreator 2.41.92//
CALSCALE:GREGORIAN
METHOD:PUBLISH
UID:35333435-6632-4630-b033-353338636639
X-WR-CALNAME:iCagenda
X-WR-CALDESC:Event Management Extension for Joomla!
X-WR-RELCALID:3E26604A-50F4-4449-8B3E-E4F4932D05B5
X-WR-TIMEZONE:Europe/Zurich
BEGIN:VTIMEZONE
TZID:Europe/Zurich
TZUNTIL:20261025T010000Z
BEGIN:STANDARD
TZNAME:CET
DTSTART:20241027T030000
TZOFFSETFROM:+0200
TZOFFSETTO:+0100
RDATE:20251026T030000
END:STANDARD
BEGIN:DAYLIGHT
TZNAME:CEST
DTSTART:20240331T020000
TZOFFSETFROM:+0100
TZOFFSETTO:+0200
RDATE:20250330T020000
RDATE:20260329T020000
END:DAYLIGHT
END:VTIMEZONE
BEGIN:VEVENT
UID:33326563-6530-4065-a131-303833393533
DTSTAMP:20260421T203748Z
CATEGORIES:RKK Therwil
CLASS:PUBLIC
DESCRIPTION;ALTREP="CID:<FFFF__=0ABBE548DFE235B58f9e8a93d@coffeebean.com>":
 Zwei Männer unterwegs. Ihr Weg ist staubig und trocken. Sie lassen die Sch
 ultern hängen und schlurfen Schritt für Schritt. Zwei traurige Männer unte
 rwegs. Kleopas und Lukas heissen sie und sie sind unterwegs nach Emmaus.\n
 Im letzten Jahr haben viele Abschied nehmen müssen\, weil aus dem Kreis ih
 rer Lieben\, aus der Familie\, aus dem Bekannten- und Freundeskreis Mensch
 en verstorben sind. Am Sonntag\, 24. November\, feiern wir um 10 Uhr in de
 r reformierten Kirche Biel-Benken einen ökumenischen Gottesdienst zum Ewig
 keitssonntag und nennen die Namen der Verstorbenen des letzten Jahres. Die
  römisch-katholische Gemeindeleiterin Elke Kreiselmeyer und Pfarrer Luca P
 olicante-Roth von der reformierten Kirchgemeinde gestalten die Feier zusam
 men mit dem Männerchor Biel-Benken und Valentin Richter an der Orgel.\nGem
 einsames Erinnern tut gut. Denn auch Kleopas und Lukas wurden auf ihrem We
 g nach Emmaus begleitet: Plötzlich stiess der Auferstandene zu ihnen «und 
 er ging ein Stück Weg mit ihnen.»\nElke Kreiselmeyer und Luca Policante-Ro
 th
DTSTART:20241124T090000Z
DTEND:20241124T103000Z
GEO:00;0
LOCATION:
ORGANIZER:
SEQUENCE:1
SUMMARY:«…und er ging ein Stück Weg mit ihnen.» Ökumenischer Gottesdienst z
 ur Erinnerung an unsere Verstorbenen in der ref. Kirche Biel-Benken
TRANSP:OPAQUE
URL:https://rkk-therwil.ch/aktuelles/archiv/217-und-er-ging-ein-stueck-weg-
 mit-ihnen-oekumenischer-gottesdienst-zur-erinnerung-an-unsere-verstorbenen
 -in-der-ref-kirche-biel-benken?layout=vcal
END:VEVENT
END:VCALENDAR
