BEGIN:VCALENDAR
VERSION:2.0
PRODID:-//RKK Therwil//NONSGML kigkonsult.se iCalcreator 2.41.92//
CALSCALE:GREGORIAN
METHOD:PUBLISH
UID:37396636-6130-4132-a533-623230626664
X-WR-CALNAME:iCagenda
X-WR-CALDESC:Event Management Extension for Joomla!
X-WR-RELCALID:3E26604A-50F4-4449-8B3E-E4F4932D05B5
X-WR-TIMEZONE:Europe/Zurich
BEGIN:VTIMEZONE
TZID:Europe/Zurich
TZUNTIL:20261025T010000Z
BEGIN:STANDARD
TZNAME:CET
DTSTART:20241027T030000
TZOFFSETFROM:+0200
TZOFFSETTO:+0100
RDATE:20251026T030000
END:STANDARD
BEGIN:DAYLIGHT
TZNAME:CEST
DTSTART:20240331T020000
TZOFFSETFROM:+0100
TZOFFSETTO:+0200
RDATE:20250330T020000
RDATE:20260329T020000
END:DAYLIGHT
END:VTIMEZONE
BEGIN:VEVENT
UID:65383663-6365-4564-b534-373663366439
DTSTAMP:20260422T101219Z
CATEGORIES:RKK Therwil
CLASS:PUBLIC
DESCRIPTION;ALTREP="CID:<FFFF__=0ABBE548DFE235B58f9e8a93d@coffeebean.com>":
 Wanderung vom Freitag\, 8. November\nWir fahren mit dem Bus Nr. 64 um 9.55
  Uhr ab Therwil Zentrum zum Gym Oberwil. Nach einer Wanderung von knapp 2 
 Std. erreichen wir die «Auberge de Neuviller»\, wo wir zum Essen angemelde
 t sind. Der Rückweg nach Oberwil wird ca. eine Stunde dauern. U-Abo oder B
 illett. Es braucht eine Anmeldung zum Mittagessen bis Montag 4. November a
 n Tel. 061 721 38 76 mit Anruf Beantworter oder e.mendoza@bluewin.ch. Bei 
 sehr schlechtem Wetter werde ich versuchen\, einen Transport zu organisier
 en.\nBitte ID und Euro mitnehmen\nWanderleitung: Esther Mendoza
DTSTART:20241108T085500Z
DTEND:20241108T143000Z
GEO:00;0
LOCATION:
ORGANIZER:
SEQUENCE:1
SUMMARY:Wandergruppe «fit und zwäg»
TRANSP:OPAQUE
URL:https://rkk-therwil.ch/aktuelles/archiv/215-wandergruppe-fit-und-zwaeg-
 12?layout=vcal
END:VEVENT
END:VCALENDAR
