BEGIN:VCALENDAR
VERSION:2.0
PRODID:-//RKK Therwil//NONSGML kigkonsult.se iCalcreator 2.41.92//
CALSCALE:GREGORIAN
METHOD:PUBLISH
UID:32623935-3537-4738-a661-333564353463
X-WR-CALNAME:iCagenda
X-WR-CALDESC:Event Management Extension for Joomla!
X-WR-RELCALID:3E26604A-50F4-4449-8B3E-E4F4932D05B5
X-WR-TIMEZONE:Europe/Zurich
BEGIN:VTIMEZONE
TZID:Europe/Zurich
TZUNTIL:20261025T010000Z
BEGIN:STANDARD
TZNAME:CET
DTSTART:20241027T030000
TZOFFSETFROM:+0200
TZOFFSETTO:+0100
RDATE:20251026T030000
END:STANDARD
BEGIN:DAYLIGHT
TZNAME:CEST
DTSTART:20240331T020000
TZOFFSETFROM:+0100
TZOFFSETTO:+0200
RDATE:20250330T020000
RDATE:20260329T020000
END:DAYLIGHT
END:VTIMEZONE
BEGIN:VEVENT
UID:62343133-3435-4432-a266-623961383334
DTSTAMP:20260421T222826Z
CATEGORIES:RKK Therwil
CLASS:PUBLIC
DESCRIPTION;ALTREP="CID:<FFFF__=0ABBE548DFE235B58f9e8a93d@coffeebean.com>":
 Am 15. November feiern wir in Therwil um 17 Uhr in der Kirche St. Stephan 
 das Martinsfest und ziehen dann mit unseren Laternen zur reformierten Kirc
 he. Der ökumenische Kinderchor umrahmt den Gottesdienst und begleitet uns 
 auf dem Weg. Familien mit Kindern im Vorschul- und Primarschulalter sind h
 erzlich willkommen. Wer ein Räbeliechtli oder eine Laterne zu Hause hat\, 
 ist eingeladen\, sie mitzubringen. Für die Vorbereitungsgruppe:\nLea Meier
  und Jutta Achhammer
DTSTART:20241115T160000Z
DTEND:20241115T173000Z
GEO:00;0
LOCATION:
ORGANIZER:
SEQUENCE:1
SUMMARY:Ökumenischer Kindergottesdienst zu St. Martin
TRANSP:OPAQUE
URL:https://rkk-therwil.ch/aktuelles/archiv/214-oekumenischer-kindergottesd
 ienst-zu-st-martin?layout=vcal
END:VEVENT
END:VCALENDAR
