BEGIN:VCALENDAR
VERSION:2.0
PRODID:-//RKK Therwil//NONSGML kigkonsult.se iCalcreator 2.41.92//
CALSCALE:GREGORIAN
METHOD:PUBLISH
UID:65356131-3034-4261-b261-343034353531
X-WR-CALNAME:iCagenda
X-WR-CALDESC:Event Management Extension for Joomla!
X-WR-RELCALID:3E26604A-50F4-4449-8B3E-E4F4932D05B5
X-WR-TIMEZONE:Europe/Zurich
BEGIN:VTIMEZONE
TZID:Europe/Zurich
TZUNTIL:20261025T010000Z
BEGIN:STANDARD
TZNAME:CET
DTSTART:20241027T030000
TZOFFSETFROM:+0200
TZOFFSETTO:+0100
RDATE:20251026T030000
END:STANDARD
BEGIN:DAYLIGHT
TZNAME:CEST
DTSTART:20240331T020000
TZOFFSETFROM:+0100
TZOFFSETTO:+0200
RDATE:20250330T020000
RDATE:20260329T020000
END:DAYLIGHT
END:VTIMEZONE
BEGIN:VEVENT
UID:63373131-6361-4333-b332-373636336634
DTSTAMP:20260421T203752Z
CATEGORIES:RKK Therwil
CLASS:PUBLIC
DESCRIPTION;ALTREP="CID:<FFFF__=0ABBE548DFE235B58f9e8a93d@coffeebean.com>":
 Zum Auftakt der Erstkommunionvorbereitung bekommen die neuen Kommunionkind
 er im Gottesdienst am 1. Adventssonntag jedes Jahr ein kleines Geschenk üb
 erreicht\, das auf ihr Vorbereitungsthema hinweist. Dieses Geschenk bastel
 n immer die letztjährigen Kommunionkinder für «die Neuen». So laden wir al
 le Kommunionkinder des Jahres 2024 am Donnerstag\, den 14. November von 15
 -16.30 Uhr herzlich in das Pfarreiheim Therwil ein. Eine Anmeldung ist nic
 ht erforderlich. Auf das Wiedersehen freuen sich sehr\nSilvia Sahli und El
 ke Kreiselmeyer
DTSTART:20241114T140000Z
DTEND:20241114T153000Z
GEO:00;0
LOCATION:
ORGANIZER:
SEQUENCE:1
SUMMARY:Viertklässler basteln für die neuen Kommunionkinder
TRANSP:OPAQUE
URL:https://rkk-therwil.ch/aktuelles/archiv/213-viertklaessler-basteln-fuer
 -die-neuen-kommunionkinder?layout=vcal
END:VEVENT
END:VCALENDAR
